BEGIN:VCALENDAR
VERSION:2.0
PRODID:-//St. James’ Anglican Church, Orillia - ECPv6.15.20//NONSGML v1.0//EN
CALSCALE:GREGORIAN
METHOD:PUBLISH
X-WR-CALNAME:St. James’ Anglican Church, Orillia
X-ORIGINAL-URL:https://stjamesorillia.com
X-WR-CALDESC:Events for St. James’ Anglican Church, Orillia
REFRESH-INTERVAL;VALUE=DURATION:PT1H
X-Robots-Tag:noindex
X-PUBLISHED-TTL:PT1H
BEGIN:VTIMEZONE
TZID:America/Toronto
BEGIN:DAYLIGHT
TZOFFSETFROM:-0500
TZOFFSETTO:-0400
TZNAME:EDT
DTSTART:20290311T070000
END:DAYLIGHT
BEGIN:STANDARD
TZOFFSETFROM:-0400
TZOFFSETTO:-0500
TZNAME:EST
DTSTART:20291104T060000
END:STANDARD
BEGIN:DAYLIGHT
TZOFFSETFROM:-0500
TZOFFSETTO:-0400
TZNAME:EDT
DTSTART:20300310T070000
END:DAYLIGHT
BEGIN:STANDARD
TZOFFSETFROM:-0400
TZOFFSETTO:-0500
TZNAME:EST
DTSTART:20301103T060000
END:STANDARD
BEGIN:DAYLIGHT
TZOFFSETFROM:-0500
TZOFFSETTO:-0400
TZNAME:EDT
DTSTART:20310309T070000
END:DAYLIGHT
BEGIN:STANDARD
TZOFFSETFROM:-0400
TZOFFSETTO:-0500
TZNAME:EST
DTSTART:20311102T060000
END:STANDARD
END:VTIMEZONE
BEGIN:VEVENT
DTSTART;TZID=America/Toronto:20300210T100000
DTEND;TZID=America/Toronto:20300210T113000
DTSTAMP:20260420T023450
CREATED:20231215T180106Z
LAST-MODIFIED:20231215T180109Z
UID:10005206-1896948000-1896953400@stjamesorillia.com
SUMMARY:Sunday Service
DESCRIPTION:
URL:https://stjamesorillia.com/event/sunday-service-2/2030-02-10/
LOCATION:St. James Anglican Church\, 58 Peter Street N.\, Orillia\, Ontario\, L3V 6J6\, Canada
CATEGORIES:Coming Events
ATTACH;FMTTYPE=image/jpeg:https://stjamesorillia.com/wp-content/uploads/2022/08/Sunday-August-28-2022.-10am-Morning-Worship.jpg
END:VEVENT
BEGIN:VEVENT
DTSTART;TZID=America/Toronto:20300213T110000
DTEND;TZID=America/Toronto:20300213T110000
DTSTAMP:20260420T023450
CREATED:20230925T214430Z
LAST-MODIFIED:20260126T191337Z
UID:10005673-1897210800-1897210800@stjamesorillia.com
SUMMARY:Mid Week Holy Eucharist
DESCRIPTION:
URL:https://stjamesorillia.com/event/mid-week-holy-eucharist/2030-02-13/
LOCATION:St. James Anglican Church\, 58 Peter Street N.\, Orillia\, Ontario\, L3V 6J6\, Canada
CATEGORIES:Coming Events
ATTACH;FMTTYPE=image/jpeg:https://stjamesorillia.com/wp-content/uploads/2023/09/Eucharist.jpg
END:VEVENT
BEGIN:VEVENT
DTSTART;TZID=America/Toronto:20300217T100000
DTEND;TZID=America/Toronto:20300217T100000
DTSTAMP:20260420T023450
CREATED:20231215T180646Z
LAST-MODIFIED:20231215T180646Z
UID:10005211-1897552800-1897552800@stjamesorillia.com
SUMMARY:Sunday Service with Live Stream
DESCRIPTION:
URL:https://stjamesorillia.com/event/sunday-service-with-live-stream/2030-02-17/
LOCATION:St. James Anglican Church\, 58 Peter Street N.\, Orillia\, Ontario\, L3V 6J6\, Canada
CATEGORIES:Coming Events
ATTACH;FMTTYPE=image/jpeg:https://stjamesorillia.com/wp-content/uploads/2022/08/Sunday-August-28-2022.-10am-Morning-Worship.jpg
END:VEVENT
BEGIN:VEVENT
DTSTART;TZID=America/Toronto:20300217T100000
DTEND;TZID=America/Toronto:20300217T113000
DTSTAMP:20260420T023450
CREATED:20231215T180106Z
LAST-MODIFIED:20231215T180109Z
UID:10005212-1897552800-1897558200@stjamesorillia.com
SUMMARY:Sunday Service
DESCRIPTION:
URL:https://stjamesorillia.com/event/sunday-service-2/2030-02-17/
LOCATION:St. James Anglican Church\, 58 Peter Street N.\, Orillia\, Ontario\, L3V 6J6\, Canada
CATEGORIES:Coming Events
ATTACH;FMTTYPE=image/jpeg:https://stjamesorillia.com/wp-content/uploads/2022/08/Sunday-August-28-2022.-10am-Morning-Worship.jpg
END:VEVENT
BEGIN:VEVENT
DTSTART;TZID=America/Toronto:20300220T110000
DTEND;TZID=America/Toronto:20300220T110000
DTSTAMP:20260420T023450
CREATED:20230925T214430Z
LAST-MODIFIED:20260126T191337Z
UID:10005674-1897815600-1897815600@stjamesorillia.com
SUMMARY:Mid Week Holy Eucharist
DESCRIPTION:
URL:https://stjamesorillia.com/event/mid-week-holy-eucharist/2030-02-20/
LOCATION:St. James Anglican Church\, 58 Peter Street N.\, Orillia\, Ontario\, L3V 6J6\, Canada
CATEGORIES:Coming Events
ATTACH;FMTTYPE=image/jpeg:https://stjamesorillia.com/wp-content/uploads/2023/09/Eucharist.jpg
END:VEVENT
BEGIN:VEVENT
DTSTART;TZID=America/Toronto:20300224T100000
DTEND;TZID=America/Toronto:20300224T100000
DTSTAMP:20260420T023450
CREATED:20231215T180646Z
LAST-MODIFIED:20231215T180646Z
UID:10005214-1898157600-1898157600@stjamesorillia.com
SUMMARY:Sunday Service with Live Stream
DESCRIPTION:
URL:https://stjamesorillia.com/event/sunday-service-with-live-stream/2030-02-24/
LOCATION:St. James Anglican Church\, 58 Peter Street N.\, Orillia\, Ontario\, L3V 6J6\, Canada
CATEGORIES:Coming Events
ATTACH;FMTTYPE=image/jpeg:https://stjamesorillia.com/wp-content/uploads/2022/08/Sunday-August-28-2022.-10am-Morning-Worship.jpg
END:VEVENT
BEGIN:VEVENT
DTSTART;TZID=America/Toronto:20300224T100000
DTEND;TZID=America/Toronto:20300224T113000
DTSTAMP:20260420T023450
CREATED:20231215T180106Z
LAST-MODIFIED:20231215T180109Z
UID:10005215-1898157600-1898163000@stjamesorillia.com
SUMMARY:Sunday Service
DESCRIPTION:
URL:https://stjamesorillia.com/event/sunday-service-2/2030-02-24/
LOCATION:St. James Anglican Church\, 58 Peter Street N.\, Orillia\, Ontario\, L3V 6J6\, Canada
CATEGORIES:Coming Events
ATTACH;FMTTYPE=image/jpeg:https://stjamesorillia.com/wp-content/uploads/2022/08/Sunday-August-28-2022.-10am-Morning-Worship.jpg
END:VEVENT
BEGIN:VEVENT
DTSTART;TZID=America/Toronto:20300227T110000
DTEND;TZID=America/Toronto:20300227T110000
DTSTAMP:20260420T023450
CREATED:20230925T214430Z
LAST-MODIFIED:20260126T191337Z
UID:10005675-1898420400-1898420400@stjamesorillia.com
SUMMARY:Mid Week Holy Eucharist
DESCRIPTION:
URL:https://stjamesorillia.com/event/mid-week-holy-eucharist/2030-02-27/
LOCATION:St. James Anglican Church\, 58 Peter Street N.\, Orillia\, Ontario\, L3V 6J6\, Canada
CATEGORIES:Coming Events
ATTACH;FMTTYPE=image/jpeg:https://stjamesorillia.com/wp-content/uploads/2023/09/Eucharist.jpg
END:VEVENT
BEGIN:VEVENT
DTSTART;TZID=America/Toronto:20300303T100000
DTEND;TZID=America/Toronto:20300303T100000
DTSTAMP:20260420T023450
CREATED:20231215T180646Z
LAST-MODIFIED:20231215T180646Z
UID:10005217-1898762400-1898762400@stjamesorillia.com
SUMMARY:Sunday Service with Live Stream
DESCRIPTION:
URL:https://stjamesorillia.com/event/sunday-service-with-live-stream/2030-03-03/
LOCATION:St. James Anglican Church\, 58 Peter Street N.\, Orillia\, Ontario\, L3V 6J6\, Canada
CATEGORIES:Coming Events
ATTACH;FMTTYPE=image/jpeg:https://stjamesorillia.com/wp-content/uploads/2022/08/Sunday-August-28-2022.-10am-Morning-Worship.jpg
END:VEVENT
BEGIN:VEVENT
DTSTART;TZID=America/Toronto:20300303T100000
DTEND;TZID=America/Toronto:20300303T113000
DTSTAMP:20260420T023450
CREATED:20231215T180106Z
LAST-MODIFIED:20231215T180109Z
UID:10005218-1898762400-1898767800@stjamesorillia.com
SUMMARY:Sunday Service
DESCRIPTION:
URL:https://stjamesorillia.com/event/sunday-service-2/2030-03-03/
LOCATION:St. James Anglican Church\, 58 Peter Street N.\, Orillia\, Ontario\, L3V 6J6\, Canada
CATEGORIES:Coming Events
ATTACH;FMTTYPE=image/jpeg:https://stjamesorillia.com/wp-content/uploads/2022/08/Sunday-August-28-2022.-10am-Morning-Worship.jpg
END:VEVENT
BEGIN:VEVENT
DTSTART;TZID=America/Toronto:20300306T110000
DTEND;TZID=America/Toronto:20300306T110000
DTSTAMP:20260420T023450
CREATED:20230925T214430Z
LAST-MODIFIED:20260126T191337Z
UID:10005676-1899025200-1899025200@stjamesorillia.com
SUMMARY:Mid Week Holy Eucharist
DESCRIPTION:
URL:https://stjamesorillia.com/event/mid-week-holy-eucharist/2030-03-06/
LOCATION:St. James Anglican Church\, 58 Peter Street N.\, Orillia\, Ontario\, L3V 6J6\, Canada
CATEGORIES:Coming Events
ATTACH;FMTTYPE=image/jpeg:https://stjamesorillia.com/wp-content/uploads/2023/09/Eucharist.jpg
END:VEVENT
BEGIN:VEVENT
DTSTART;TZID=America/Toronto:20300310T100000
DTEND;TZID=America/Toronto:20300310T100000
DTSTAMP:20260420T023450
CREATED:20231215T180646Z
LAST-MODIFIED:20231215T180646Z
UID:10005220-1899367200-1899367200@stjamesorillia.com
SUMMARY:Sunday Service with Live Stream
DESCRIPTION:
URL:https://stjamesorillia.com/event/sunday-service-with-live-stream/2030-03-10/
LOCATION:St. James Anglican Church\, 58 Peter Street N.\, Orillia\, Ontario\, L3V 6J6\, Canada
CATEGORIES:Coming Events
ATTACH;FMTTYPE=image/jpeg:https://stjamesorillia.com/wp-content/uploads/2022/08/Sunday-August-28-2022.-10am-Morning-Worship.jpg
END:VEVENT
BEGIN:VEVENT
DTSTART;TZID=America/Toronto:20300310T100000
DTEND;TZID=America/Toronto:20300310T113000
DTSTAMP:20260420T023450
CREATED:20231215T180106Z
LAST-MODIFIED:20231215T180109Z
UID:10005221-1899367200-1899372600@stjamesorillia.com
SUMMARY:Sunday Service
DESCRIPTION:
URL:https://stjamesorillia.com/event/sunday-service-2/2030-03-10/
LOCATION:St. James Anglican Church\, 58 Peter Street N.\, Orillia\, Ontario\, L3V 6J6\, Canada
CATEGORIES:Coming Events
ATTACH;FMTTYPE=image/jpeg:https://stjamesorillia.com/wp-content/uploads/2022/08/Sunday-August-28-2022.-10am-Morning-Worship.jpg
END:VEVENT
BEGIN:VEVENT
DTSTART;TZID=America/Toronto:20300313T110000
DTEND;TZID=America/Toronto:20300313T110000
DTSTAMP:20260420T023450
CREATED:20230925T214430Z
LAST-MODIFIED:20260126T191337Z
UID:10005677-1899630000-1899630000@stjamesorillia.com
SUMMARY:Mid Week Holy Eucharist
DESCRIPTION:
URL:https://stjamesorillia.com/event/mid-week-holy-eucharist/2030-03-13/
LOCATION:St. James Anglican Church\, 58 Peter Street N.\, Orillia\, Ontario\, L3V 6J6\, Canada
CATEGORIES:Coming Events
ATTACH;FMTTYPE=image/jpeg:https://stjamesorillia.com/wp-content/uploads/2023/09/Eucharist.jpg
END:VEVENT
BEGIN:VEVENT
DTSTART;TZID=America/Toronto:20300317T100000
DTEND;TZID=America/Toronto:20300317T100000
DTSTAMP:20260420T023450
CREATED:20231215T180646Z
LAST-MODIFIED:20231215T180646Z
UID:10005224-1899972000-1899972000@stjamesorillia.com
SUMMARY:Sunday Service with Live Stream
DESCRIPTION:
URL:https://stjamesorillia.com/event/sunday-service-with-live-stream/2030-03-17/
LOCATION:St. James Anglican Church\, 58 Peter Street N.\, Orillia\, Ontario\, L3V 6J6\, Canada
CATEGORIES:Coming Events
ATTACH;FMTTYPE=image/jpeg:https://stjamesorillia.com/wp-content/uploads/2022/08/Sunday-August-28-2022.-10am-Morning-Worship.jpg
END:VEVENT
BEGIN:VEVENT
DTSTART;TZID=America/Toronto:20300317T100000
DTEND;TZID=America/Toronto:20300317T113000
DTSTAMP:20260420T023450
CREATED:20231215T180106Z
LAST-MODIFIED:20231215T180109Z
UID:10005225-1899972000-1899977400@stjamesorillia.com
SUMMARY:Sunday Service
DESCRIPTION:
URL:https://stjamesorillia.com/event/sunday-service-2/2030-03-17/
LOCATION:St. James Anglican Church\, 58 Peter Street N.\, Orillia\, Ontario\, L3V 6J6\, Canada
CATEGORIES:Coming Events
ATTACH;FMTTYPE=image/jpeg:https://stjamesorillia.com/wp-content/uploads/2022/08/Sunday-August-28-2022.-10am-Morning-Worship.jpg
END:VEVENT
BEGIN:VEVENT
DTSTART;TZID=America/Toronto:20300320T110000
DTEND;TZID=America/Toronto:20300320T110000
DTSTAMP:20260420T023450
CREATED:20230925T214430Z
LAST-MODIFIED:20260126T191337Z
UID:10005678-1900234800-1900234800@stjamesorillia.com
SUMMARY:Mid Week Holy Eucharist
DESCRIPTION:
URL:https://stjamesorillia.com/event/mid-week-holy-eucharist/2030-03-20/
LOCATION:St. James Anglican Church\, 58 Peter Street N.\, Orillia\, Ontario\, L3V 6J6\, Canada
CATEGORIES:Coming Events
ATTACH;FMTTYPE=image/jpeg:https://stjamesorillia.com/wp-content/uploads/2023/09/Eucharist.jpg
END:VEVENT
BEGIN:VEVENT
DTSTART;TZID=America/Toronto:20300324T100000
DTEND;TZID=America/Toronto:20300324T100000
DTSTAMP:20260420T023450
CREATED:20231215T180646Z
LAST-MODIFIED:20231215T180646Z
UID:10005227-1900576800-1900576800@stjamesorillia.com
SUMMARY:Sunday Service with Live Stream
DESCRIPTION:
URL:https://stjamesorillia.com/event/sunday-service-with-live-stream/2030-03-24/
LOCATION:St. James Anglican Church\, 58 Peter Street N.\, Orillia\, Ontario\, L3V 6J6\, Canada
CATEGORIES:Coming Events
ATTACH;FMTTYPE=image/jpeg:https://stjamesorillia.com/wp-content/uploads/2022/08/Sunday-August-28-2022.-10am-Morning-Worship.jpg
END:VEVENT
BEGIN:VEVENT
DTSTART;TZID=America/Toronto:20300324T100000
DTEND;TZID=America/Toronto:20300324T113000
DTSTAMP:20260420T023450
CREATED:20231215T180106Z
LAST-MODIFIED:20231215T180109Z
UID:10005228-1900576800-1900582200@stjamesorillia.com
SUMMARY:Sunday Service
DESCRIPTION:
URL:https://stjamesorillia.com/event/sunday-service-2/2030-03-24/
LOCATION:St. James Anglican Church\, 58 Peter Street N.\, Orillia\, Ontario\, L3V 6J6\, Canada
CATEGORIES:Coming Events
ATTACH;FMTTYPE=image/jpeg:https://stjamesorillia.com/wp-content/uploads/2022/08/Sunday-August-28-2022.-10am-Morning-Worship.jpg
END:VEVENT
BEGIN:VEVENT
DTSTART;TZID=America/Toronto:20300327T110000
DTEND;TZID=America/Toronto:20300327T110000
DTSTAMP:20260420T023450
CREATED:20230925T214430Z
LAST-MODIFIED:20260126T191337Z
UID:10005679-1900839600-1900839600@stjamesorillia.com
SUMMARY:Mid Week Holy Eucharist
DESCRIPTION:
URL:https://stjamesorillia.com/event/mid-week-holy-eucharist/2030-03-27/
LOCATION:St. James Anglican Church\, 58 Peter Street N.\, Orillia\, Ontario\, L3V 6J6\, Canada
CATEGORIES:Coming Events
ATTACH;FMTTYPE=image/jpeg:https://stjamesorillia.com/wp-content/uploads/2023/09/Eucharist.jpg
END:VEVENT
BEGIN:VEVENT
DTSTART;TZID=America/Toronto:20300331T100000
DTEND;TZID=America/Toronto:20300331T100000
DTSTAMP:20260420T023450
CREATED:20231215T180646Z
LAST-MODIFIED:20231215T180646Z
UID:10005238-1901181600-1901181600@stjamesorillia.com
SUMMARY:Sunday Service with Live Stream
DESCRIPTION:
URL:https://stjamesorillia.com/event/sunday-service-with-live-stream/2030-03-31/
LOCATION:St. James Anglican Church\, 58 Peter Street N.\, Orillia\, Ontario\, L3V 6J6\, Canada
CATEGORIES:Coming Events
ATTACH;FMTTYPE=image/jpeg:https://stjamesorillia.com/wp-content/uploads/2022/08/Sunday-August-28-2022.-10am-Morning-Worship.jpg
END:VEVENT
BEGIN:VEVENT
DTSTART;TZID=America/Toronto:20300331T100000
DTEND;TZID=America/Toronto:20300331T113000
DTSTAMP:20260420T023450
CREATED:20231215T180106Z
LAST-MODIFIED:20231215T180109Z
UID:10005239-1901181600-1901187000@stjamesorillia.com
SUMMARY:Sunday Service
DESCRIPTION:
URL:https://stjamesorillia.com/event/sunday-service-2/2030-03-31/
LOCATION:St. James Anglican Church\, 58 Peter Street N.\, Orillia\, Ontario\, L3V 6J6\, Canada
CATEGORIES:Coming Events
ATTACH;FMTTYPE=image/jpeg:https://stjamesorillia.com/wp-content/uploads/2022/08/Sunday-August-28-2022.-10am-Morning-Worship.jpg
END:VEVENT
BEGIN:VEVENT
DTSTART;TZID=America/Toronto:20300403T110000
DTEND;TZID=America/Toronto:20300403T110000
DTSTAMP:20260420T023450
CREATED:20230925T214430Z
LAST-MODIFIED:20260126T191337Z
UID:10005680-1901444400-1901444400@stjamesorillia.com
SUMMARY:Mid Week Holy Eucharist
DESCRIPTION:
URL:https://stjamesorillia.com/event/mid-week-holy-eucharist/2030-04-03/
LOCATION:St. James Anglican Church\, 58 Peter Street N.\, Orillia\, Ontario\, L3V 6J6\, Canada
CATEGORIES:Coming Events
ATTACH;FMTTYPE=image/jpeg:https://stjamesorillia.com/wp-content/uploads/2023/09/Eucharist.jpg
END:VEVENT
BEGIN:VEVENT
DTSTART;TZID=America/Toronto:20300407T100000
DTEND;TZID=America/Toronto:20300407T100000
DTSTAMP:20260420T023450
CREATED:20231215T180646Z
LAST-MODIFIED:20231215T180646Z
UID:10005241-1901786400-1901786400@stjamesorillia.com
SUMMARY:Sunday Service with Live Stream
DESCRIPTION:
URL:https://stjamesorillia.com/event/sunday-service-with-live-stream/2030-04-07/
LOCATION:St. James Anglican Church\, 58 Peter Street N.\, Orillia\, Ontario\, L3V 6J6\, Canada
CATEGORIES:Coming Events
ATTACH;FMTTYPE=image/jpeg:https://stjamesorillia.com/wp-content/uploads/2022/08/Sunday-August-28-2022.-10am-Morning-Worship.jpg
END:VEVENT
BEGIN:VEVENT
DTSTART;TZID=America/Toronto:20300407T100000
DTEND;TZID=America/Toronto:20300407T113000
DTSTAMP:20260420T023450
CREATED:20231215T180106Z
LAST-MODIFIED:20231215T180109Z
UID:10005242-1901786400-1901791800@stjamesorillia.com
SUMMARY:Sunday Service
DESCRIPTION:
URL:https://stjamesorillia.com/event/sunday-service-2/2030-04-07/
LOCATION:St. James Anglican Church\, 58 Peter Street N.\, Orillia\, Ontario\, L3V 6J6\, Canada
CATEGORIES:Coming Events
ATTACH;FMTTYPE=image/jpeg:https://stjamesorillia.com/wp-content/uploads/2022/08/Sunday-August-28-2022.-10am-Morning-Worship.jpg
END:VEVENT
BEGIN:VEVENT
DTSTART;TZID=America/Toronto:20300410T110000
DTEND;TZID=America/Toronto:20300410T110000
DTSTAMP:20260420T023450
CREATED:20230925T214430Z
LAST-MODIFIED:20260126T191337Z
UID:10005681-1902049200-1902049200@stjamesorillia.com
SUMMARY:Mid Week Holy Eucharist
DESCRIPTION:
URL:https://stjamesorillia.com/event/mid-week-holy-eucharist/2030-04-10/
LOCATION:St. James Anglican Church\, 58 Peter Street N.\, Orillia\, Ontario\, L3V 6J6\, Canada
CATEGORIES:Coming Events
ATTACH;FMTTYPE=image/jpeg:https://stjamesorillia.com/wp-content/uploads/2023/09/Eucharist.jpg
END:VEVENT
BEGIN:VEVENT
DTSTART;TZID=America/Toronto:20300414T100000
DTEND;TZID=America/Toronto:20300414T100000
DTSTAMP:20260420T023450
CREATED:20231215T180646Z
LAST-MODIFIED:20231215T180646Z
UID:10005244-1902391200-1902391200@stjamesorillia.com
SUMMARY:Sunday Service with Live Stream
DESCRIPTION:
URL:https://stjamesorillia.com/event/sunday-service-with-live-stream/2030-04-14/
LOCATION:St. James Anglican Church\, 58 Peter Street N.\, Orillia\, Ontario\, L3V 6J6\, Canada
CATEGORIES:Coming Events
ATTACH;FMTTYPE=image/jpeg:https://stjamesorillia.com/wp-content/uploads/2022/08/Sunday-August-28-2022.-10am-Morning-Worship.jpg
END:VEVENT
BEGIN:VEVENT
DTSTART;TZID=America/Toronto:20300414T100000
DTEND;TZID=America/Toronto:20300414T113000
DTSTAMP:20260420T023450
CREATED:20231215T180106Z
LAST-MODIFIED:20231215T180109Z
UID:10005245-1902391200-1902396600@stjamesorillia.com
SUMMARY:Sunday Service
DESCRIPTION:
URL:https://stjamesorillia.com/event/sunday-service-2/2030-04-14/
LOCATION:St. James Anglican Church\, 58 Peter Street N.\, Orillia\, Ontario\, L3V 6J6\, Canada
CATEGORIES:Coming Events
ATTACH;FMTTYPE=image/jpeg:https://stjamesorillia.com/wp-content/uploads/2022/08/Sunday-August-28-2022.-10am-Morning-Worship.jpg
END:VEVENT
BEGIN:VEVENT
DTSTART;TZID=America/Toronto:20300417T110000
DTEND;TZID=America/Toronto:20300417T110000
DTSTAMP:20260420T023450
CREATED:20230925T214430Z
LAST-MODIFIED:20260126T191337Z
UID:10005682-1902654000-1902654000@stjamesorillia.com
SUMMARY:Mid Week Holy Eucharist
DESCRIPTION:
URL:https://stjamesorillia.com/event/mid-week-holy-eucharist/2030-04-17/
LOCATION:St. James Anglican Church\, 58 Peter Street N.\, Orillia\, Ontario\, L3V 6J6\, Canada
CATEGORIES:Coming Events
ATTACH;FMTTYPE=image/jpeg:https://stjamesorillia.com/wp-content/uploads/2023/09/Eucharist.jpg
END:VEVENT
BEGIN:VEVENT
DTSTART;TZID=America/Toronto:20300421T100000
DTEND;TZID=America/Toronto:20300421T100000
DTSTAMP:20260420T023450
CREATED:20231215T180646Z
LAST-MODIFIED:20231215T180646Z
UID:10005247-1902996000-1902996000@stjamesorillia.com
SUMMARY:Sunday Service with Live Stream
DESCRIPTION:
URL:https://stjamesorillia.com/event/sunday-service-with-live-stream/2030-04-21/
LOCATION:St. James Anglican Church\, 58 Peter Street N.\, Orillia\, Ontario\, L3V 6J6\, Canada
CATEGORIES:Coming Events
ATTACH;FMTTYPE=image/jpeg:https://stjamesorillia.com/wp-content/uploads/2022/08/Sunday-August-28-2022.-10am-Morning-Worship.jpg
END:VEVENT
END:VCALENDAR