BEGIN:VCALENDAR
VERSION:2.0
PRODID:-//St. James’ Anglican Church, Orillia - ECPv6.15.20//NONSGML v1.0//EN
CALSCALE:GREGORIAN
METHOD:PUBLISH
X-ORIGINAL-URL:https://stjamesorillia.com
X-WR-CALDESC:Events for St. James’ Anglican Church, Orillia
REFRESH-INTERVAL;VALUE=DURATION:PT1H
X-Robots-Tag:noindex
X-PUBLISHED-TTL:PT1H
BEGIN:VTIMEZONE
TZID:America/Toronto
BEGIN:DAYLIGHT
TZOFFSETFROM:-0500
TZOFFSETTO:-0400
TZNAME:EDT
DTSTART:20300310T070000
END:DAYLIGHT
BEGIN:STANDARD
TZOFFSETFROM:-0400
TZOFFSETTO:-0500
TZNAME:EST
DTSTART:20301103T060000
END:STANDARD
BEGIN:DAYLIGHT
TZOFFSETFROM:-0500
TZOFFSETTO:-0400
TZNAME:EDT
DTSTART:20310309T070000
END:DAYLIGHT
BEGIN:STANDARD
TZOFFSETFROM:-0400
TZOFFSETTO:-0500
TZNAME:EST
DTSTART:20311102T060000
END:STANDARD
BEGIN:DAYLIGHT
TZOFFSETFROM:-0500
TZOFFSETTO:-0400
TZNAME:EDT
DTSTART:20320314T070000
END:DAYLIGHT
BEGIN:STANDARD
TZOFFSETFROM:-0400
TZOFFSETTO:-0500
TZNAME:EST
DTSTART:20321107T060000
END:STANDARD
END:VTIMEZONE
BEGIN:VEVENT
DTSTART;TZID=America/Toronto:20310326T110000
DTEND;TZID=America/Toronto:20310326T110000
DTSTAMP:20260420T165203
CREATED:20230925T214430Z
LAST-MODIFIED:20260126T191337Z
UID:10005751-1932289200-1932289200@stjamesorillia.com
SUMMARY:Mid Week Holy Eucharist
DESCRIPTION:
URL:https://stjamesorillia.com/event/mid-week-holy-eucharist/2031-03-26/
LOCATION:St. James Anglican Church\, 58 Peter Street N.\, Orillia\, Ontario\, L3V 6J6\, Canada
CATEGORIES:Coming Events
ATTACH;FMTTYPE=image/jpeg:https://stjamesorillia.com/wp-content/uploads/2023/09/Eucharist.jpg
END:VEVENT
BEGIN:VEVENT
DTSTART;TZID=America/Toronto:20310330T100000
DTEND;TZID=America/Toronto:20310330T100000
DTSTAMP:20260420T165203
CREATED:20231215T180646Z
LAST-MODIFIED:20231215T180646Z
UID:10005752-1932631200-1932631200@stjamesorillia.com
SUMMARY:Sunday Service with Live Stream
DESCRIPTION:
URL:https://stjamesorillia.com/event/sunday-service-with-live-stream/2031-03-30/
LOCATION:St. James Anglican Church\, 58 Peter Street N.\, Orillia\, Ontario\, L3V 6J6\, Canada
CATEGORIES:Coming Events
ATTACH;FMTTYPE=image/jpeg:https://stjamesorillia.com/wp-content/uploads/2022/08/Sunday-August-28-2022.-10am-Morning-Worship.jpg
END:VEVENT
BEGIN:VEVENT
DTSTART;TZID=America/Toronto:20310330T100000
DTEND;TZID=America/Toronto:20310330T113000
DTSTAMP:20260420T165203
CREATED:20231215T180106Z
LAST-MODIFIED:20231215T180109Z
UID:10005753-1932631200-1932636600@stjamesorillia.com
SUMMARY:Sunday Service
DESCRIPTION:
URL:https://stjamesorillia.com/event/sunday-service-2/2031-03-30/
LOCATION:St. James Anglican Church\, 58 Peter Street N.\, Orillia\, Ontario\, L3V 6J6\, Canada
CATEGORIES:Coming Events
ATTACH;FMTTYPE=image/jpeg:https://stjamesorillia.com/wp-content/uploads/2022/08/Sunday-August-28-2022.-10am-Morning-Worship.jpg
END:VEVENT
BEGIN:VEVENT
DTSTART;TZID=America/Toronto:20310402T110000
DTEND;TZID=America/Toronto:20310402T110000
DTSTAMP:20260420T165203
CREATED:20230925T214430Z
LAST-MODIFIED:20260126T191337Z
UID:10005754-1932894000-1932894000@stjamesorillia.com
SUMMARY:Mid Week Holy Eucharist
DESCRIPTION:
URL:https://stjamesorillia.com/event/mid-week-holy-eucharist/2031-04-02/
LOCATION:St. James Anglican Church\, 58 Peter Street N.\, Orillia\, Ontario\, L3V 6J6\, Canada
CATEGORIES:Coming Events
ATTACH;FMTTYPE=image/jpeg:https://stjamesorillia.com/wp-content/uploads/2023/09/Eucharist.jpg
END:VEVENT
BEGIN:VEVENT
DTSTART;TZID=America/Toronto:20310406T100000
DTEND;TZID=America/Toronto:20310406T100000
DTSTAMP:20260420T165203
CREATED:20231215T180646Z
LAST-MODIFIED:20231215T180646Z
UID:10005755-1933236000-1933236000@stjamesorillia.com
SUMMARY:Sunday Service with Live Stream
DESCRIPTION:
URL:https://stjamesorillia.com/event/sunday-service-with-live-stream/2031-04-06/
LOCATION:St. James Anglican Church\, 58 Peter Street N.\, Orillia\, Ontario\, L3V 6J6\, Canada
CATEGORIES:Coming Events
ATTACH;FMTTYPE=image/jpeg:https://stjamesorillia.com/wp-content/uploads/2022/08/Sunday-August-28-2022.-10am-Morning-Worship.jpg
END:VEVENT
BEGIN:VEVENT
DTSTART;TZID=America/Toronto:20310406T100000
DTEND;TZID=America/Toronto:20310406T113000
DTSTAMP:20260420T165203
CREATED:20231215T180106Z
LAST-MODIFIED:20231215T180109Z
UID:10005756-1933236000-1933241400@stjamesorillia.com
SUMMARY:Sunday Service
DESCRIPTION:
URL:https://stjamesorillia.com/event/sunday-service-2/2031-04-06/
LOCATION:St. James Anglican Church\, 58 Peter Street N.\, Orillia\, Ontario\, L3V 6J6\, Canada
CATEGORIES:Coming Events
ATTACH;FMTTYPE=image/jpeg:https://stjamesorillia.com/wp-content/uploads/2022/08/Sunday-August-28-2022.-10am-Morning-Worship.jpg
END:VEVENT
BEGIN:VEVENT
DTSTART;TZID=America/Toronto:20310409T110000
DTEND;TZID=America/Toronto:20310409T110000
DTSTAMP:20260420T165203
CREATED:20230925T214430Z
LAST-MODIFIED:20260126T191337Z
UID:10005757-1933498800-1933498800@stjamesorillia.com
SUMMARY:Mid Week Holy Eucharist
DESCRIPTION:
URL:https://stjamesorillia.com/event/mid-week-holy-eucharist/2031-04-09/
LOCATION:St. James Anglican Church\, 58 Peter Street N.\, Orillia\, Ontario\, L3V 6J6\, Canada
CATEGORIES:Coming Events
ATTACH;FMTTYPE=image/jpeg:https://stjamesorillia.com/wp-content/uploads/2023/09/Eucharist.jpg
END:VEVENT
BEGIN:VEVENT
DTSTART;TZID=America/Toronto:20310413T100000
DTEND;TZID=America/Toronto:20310413T100000
DTSTAMP:20260420T165203
CREATED:20231215T180646Z
LAST-MODIFIED:20231215T180646Z
UID:10005758-1933840800-1933840800@stjamesorillia.com
SUMMARY:Sunday Service with Live Stream
DESCRIPTION:
URL:https://stjamesorillia.com/event/sunday-service-with-live-stream/2031-04-13/
LOCATION:St. James Anglican Church\, 58 Peter Street N.\, Orillia\, Ontario\, L3V 6J6\, Canada
CATEGORIES:Coming Events
ATTACH;FMTTYPE=image/jpeg:https://stjamesorillia.com/wp-content/uploads/2022/08/Sunday-August-28-2022.-10am-Morning-Worship.jpg
END:VEVENT
BEGIN:VEVENT
DTSTART;TZID=America/Toronto:20310413T100000
DTEND;TZID=America/Toronto:20310413T113000
DTSTAMP:20260420T165203
CREATED:20231215T180106Z
LAST-MODIFIED:20231215T180109Z
UID:10005759-1933840800-1933846200@stjamesorillia.com
SUMMARY:Sunday Service
DESCRIPTION:
URL:https://stjamesorillia.com/event/sunday-service-2/2031-04-13/
LOCATION:St. James Anglican Church\, 58 Peter Street N.\, Orillia\, Ontario\, L3V 6J6\, Canada
CATEGORIES:Coming Events
ATTACH;FMTTYPE=image/jpeg:https://stjamesorillia.com/wp-content/uploads/2022/08/Sunday-August-28-2022.-10am-Morning-Worship.jpg
END:VEVENT
BEGIN:VEVENT
DTSTART;TZID=America/Toronto:20310416T110000
DTEND;TZID=America/Toronto:20310416T110000
DTSTAMP:20260420T165203
CREATED:20230925T214430Z
LAST-MODIFIED:20260126T191337Z
UID:10005760-1934103600-1934103600@stjamesorillia.com
SUMMARY:Mid Week Holy Eucharist
DESCRIPTION:
URL:https://stjamesorillia.com/event/mid-week-holy-eucharist/2031-04-16/
LOCATION:St. James Anglican Church\, 58 Peter Street N.\, Orillia\, Ontario\, L3V 6J6\, Canada
CATEGORIES:Coming Events
ATTACH;FMTTYPE=image/jpeg:https://stjamesorillia.com/wp-content/uploads/2023/09/Eucharist.jpg
END:VEVENT
END:VCALENDAR