BEGIN:VCALENDAR
VERSION:2.0
PRODID:-//St. James’ Anglican Church, Orillia - ECPv6.15.20//NONSGML v1.0//EN
CALSCALE:GREGORIAN
METHOD:PUBLISH
X-ORIGINAL-URL:https://stjamesorillia.com
X-WR-CALDESC:Events for St. James’ Anglican Church, Orillia
REFRESH-INTERVAL;VALUE=DURATION:PT1H
X-Robots-Tag:noindex
X-PUBLISHED-TTL:PT1H
BEGIN:VTIMEZONE
TZID:America/Toronto
BEGIN:DAYLIGHT
TZOFFSETFROM:-0500
TZOFFSETTO:-0400
TZNAME:EDT
DTSTART:20290311T070000
END:DAYLIGHT
BEGIN:STANDARD
TZOFFSETFROM:-0400
TZOFFSETTO:-0500
TZNAME:EST
DTSTART:20291104T060000
END:STANDARD
BEGIN:DAYLIGHT
TZOFFSETFROM:-0500
TZOFFSETTO:-0400
TZNAME:EDT
DTSTART:20300310T070000
END:DAYLIGHT
BEGIN:STANDARD
TZOFFSETFROM:-0400
TZOFFSETTO:-0500
TZNAME:EST
DTSTART:20301103T060000
END:STANDARD
BEGIN:DAYLIGHT
TZOFFSETFROM:-0500
TZOFFSETTO:-0400
TZNAME:EDT
DTSTART:20310309T070000
END:DAYLIGHT
BEGIN:STANDARD
TZOFFSETFROM:-0400
TZOFFSETTO:-0500
TZNAME:EST
DTSTART:20311102T060000
END:STANDARD
END:VTIMEZONE
BEGIN:VEVENT
DTSTART;TZID=America/Toronto:20300828T110000
DTEND;TZID=America/Toronto:20300828T110000
DTSTAMP:20260420T031326
CREATED:20230925T214430Z
LAST-MODIFIED:20260126T191337Z
UID:10005701-1914145200-1914145200@stjamesorillia.com
SUMMARY:Mid Week Holy Eucharist
DESCRIPTION:
URL:https://stjamesorillia.com/event/mid-week-holy-eucharist/2030-08-28/
LOCATION:St. James Anglican Church\, 58 Peter Street N.\, Orillia\, Ontario\, L3V 6J6\, Canada
CATEGORIES:Coming Events
ATTACH;FMTTYPE=image/jpeg:https://stjamesorillia.com/wp-content/uploads/2023/09/Eucharist.jpg
END:VEVENT
BEGIN:VEVENT
DTSTART;TZID=America/Toronto:20300901T100000
DTEND;TZID=America/Toronto:20300901T100000
DTSTAMP:20260420T031326
CREATED:20231215T180646Z
LAST-MODIFIED:20231215T180646Z
UID:10005331-1914487200-1914487200@stjamesorillia.com
SUMMARY:Sunday Service with Live Stream
DESCRIPTION:
URL:https://stjamesorillia.com/event/sunday-service-with-live-stream/2030-09-01/
LOCATION:St. James Anglican Church\, 58 Peter Street N.\, Orillia\, Ontario\, L3V 6J6\, Canada
CATEGORIES:Coming Events
ATTACH;FMTTYPE=image/jpeg:https://stjamesorillia.com/wp-content/uploads/2022/08/Sunday-August-28-2022.-10am-Morning-Worship.jpg
END:VEVENT
BEGIN:VEVENT
DTSTART;TZID=America/Toronto:20300901T100000
DTEND;TZID=America/Toronto:20300901T113000
DTSTAMP:20260420T031326
CREATED:20231215T180106Z
LAST-MODIFIED:20231215T180109Z
UID:10005332-1914487200-1914492600@stjamesorillia.com
SUMMARY:Sunday Service
DESCRIPTION:
URL:https://stjamesorillia.com/event/sunday-service-2/2030-09-01/
LOCATION:St. James Anglican Church\, 58 Peter Street N.\, Orillia\, Ontario\, L3V 6J6\, Canada
CATEGORIES:Coming Events
ATTACH;FMTTYPE=image/jpeg:https://stjamesorillia.com/wp-content/uploads/2022/08/Sunday-August-28-2022.-10am-Morning-Worship.jpg
END:VEVENT
BEGIN:VEVENT
DTSTART;TZID=America/Toronto:20300904T110000
DTEND;TZID=America/Toronto:20300904T110000
DTSTAMP:20260420T031326
CREATED:20230925T214430Z
LAST-MODIFIED:20260126T191337Z
UID:10005702-1914750000-1914750000@stjamesorillia.com
SUMMARY:Mid Week Holy Eucharist
DESCRIPTION:
URL:https://stjamesorillia.com/event/mid-week-holy-eucharist/2030-09-04/
LOCATION:St. James Anglican Church\, 58 Peter Street N.\, Orillia\, Ontario\, L3V 6J6\, Canada
CATEGORIES:Coming Events
ATTACH;FMTTYPE=image/jpeg:https://stjamesorillia.com/wp-content/uploads/2023/09/Eucharist.jpg
END:VEVENT
BEGIN:VEVENT
DTSTART;TZID=America/Toronto:20300908T100000
DTEND;TZID=America/Toronto:20300908T100000
DTSTAMP:20260420T031326
CREATED:20231215T180646Z
LAST-MODIFIED:20231215T180646Z
UID:10005334-1915092000-1915092000@stjamesorillia.com
SUMMARY:Sunday Service with Live Stream
DESCRIPTION:
URL:https://stjamesorillia.com/event/sunday-service-with-live-stream/2030-09-08/
LOCATION:St. James Anglican Church\, 58 Peter Street N.\, Orillia\, Ontario\, L3V 6J6\, Canada
CATEGORIES:Coming Events
ATTACH;FMTTYPE=image/jpeg:https://stjamesorillia.com/wp-content/uploads/2022/08/Sunday-August-28-2022.-10am-Morning-Worship.jpg
END:VEVENT
BEGIN:VEVENT
DTSTART;TZID=America/Toronto:20300908T100000
DTEND;TZID=America/Toronto:20300908T113000
DTSTAMP:20260420T031326
CREATED:20231215T180106Z
LAST-MODIFIED:20231215T180109Z
UID:10005335-1915092000-1915097400@stjamesorillia.com
SUMMARY:Sunday Service
DESCRIPTION:
URL:https://stjamesorillia.com/event/sunday-service-2/2030-09-08/
LOCATION:St. James Anglican Church\, 58 Peter Street N.\, Orillia\, Ontario\, L3V 6J6\, Canada
CATEGORIES:Coming Events
ATTACH;FMTTYPE=image/jpeg:https://stjamesorillia.com/wp-content/uploads/2022/08/Sunday-August-28-2022.-10am-Morning-Worship.jpg
END:VEVENT
BEGIN:VEVENT
DTSTART;TZID=America/Toronto:20300911T110000
DTEND;TZID=America/Toronto:20300911T110000
DTSTAMP:20260420T031326
CREATED:20230925T214430Z
LAST-MODIFIED:20260126T191337Z
UID:10005703-1915354800-1915354800@stjamesorillia.com
SUMMARY:Mid Week Holy Eucharist
DESCRIPTION:
URL:https://stjamesorillia.com/event/mid-week-holy-eucharist/2030-09-11/
LOCATION:St. James Anglican Church\, 58 Peter Street N.\, Orillia\, Ontario\, L3V 6J6\, Canada
CATEGORIES:Coming Events
ATTACH;FMTTYPE=image/jpeg:https://stjamesorillia.com/wp-content/uploads/2023/09/Eucharist.jpg
END:VEVENT
BEGIN:VEVENT
DTSTART;TZID=America/Toronto:20300915T100000
DTEND;TZID=America/Toronto:20300915T100000
DTSTAMP:20260420T031326
CREATED:20231215T180646Z
LAST-MODIFIED:20231215T180646Z
UID:10005337-1915696800-1915696800@stjamesorillia.com
SUMMARY:Sunday Service with Live Stream
DESCRIPTION:
URL:https://stjamesorillia.com/event/sunday-service-with-live-stream/2030-09-15/
LOCATION:St. James Anglican Church\, 58 Peter Street N.\, Orillia\, Ontario\, L3V 6J6\, Canada
CATEGORIES:Coming Events
ATTACH;FMTTYPE=image/jpeg:https://stjamesorillia.com/wp-content/uploads/2022/08/Sunday-August-28-2022.-10am-Morning-Worship.jpg
END:VEVENT
BEGIN:VEVENT
DTSTART;TZID=America/Toronto:20300915T100000
DTEND;TZID=America/Toronto:20300915T113000
DTSTAMP:20260420T031326
CREATED:20231215T180106Z
LAST-MODIFIED:20231215T180109Z
UID:10005338-1915696800-1915702200@stjamesorillia.com
SUMMARY:Sunday Service
DESCRIPTION:
URL:https://stjamesorillia.com/event/sunday-service-2/2030-09-15/
LOCATION:St. James Anglican Church\, 58 Peter Street N.\, Orillia\, Ontario\, L3V 6J6\, Canada
CATEGORIES:Coming Events
ATTACH;FMTTYPE=image/jpeg:https://stjamesorillia.com/wp-content/uploads/2022/08/Sunday-August-28-2022.-10am-Morning-Worship.jpg
END:VEVENT
BEGIN:VEVENT
DTSTART;TZID=America/Toronto:20300918T110000
DTEND;TZID=America/Toronto:20300918T110000
DTSTAMP:20260420T031326
CREATED:20230925T214430Z
LAST-MODIFIED:20260126T191337Z
UID:10005704-1915959600-1915959600@stjamesorillia.com
SUMMARY:Mid Week Holy Eucharist
DESCRIPTION:
URL:https://stjamesorillia.com/event/mid-week-holy-eucharist/2030-09-18/
LOCATION:St. James Anglican Church\, 58 Peter Street N.\, Orillia\, Ontario\, L3V 6J6\, Canada
CATEGORIES:Coming Events
ATTACH;FMTTYPE=image/jpeg:https://stjamesorillia.com/wp-content/uploads/2023/09/Eucharist.jpg
END:VEVENT
BEGIN:VEVENT
DTSTART;TZID=America/Toronto:20300922T100000
DTEND;TZID=America/Toronto:20300922T100000
DTSTAMP:20260420T031326
CREATED:20231215T180646Z
LAST-MODIFIED:20231215T180646Z
UID:10005340-1916301600-1916301600@stjamesorillia.com
SUMMARY:Sunday Service with Live Stream
DESCRIPTION:
URL:https://stjamesorillia.com/event/sunday-service-with-live-stream/2030-09-22/
LOCATION:St. James Anglican Church\, 58 Peter Street N.\, Orillia\, Ontario\, L3V 6J6\, Canada
CATEGORIES:Coming Events
ATTACH;FMTTYPE=image/jpeg:https://stjamesorillia.com/wp-content/uploads/2022/08/Sunday-August-28-2022.-10am-Morning-Worship.jpg
END:VEVENT
BEGIN:VEVENT
DTSTART;TZID=America/Toronto:20300922T100000
DTEND;TZID=America/Toronto:20300922T113000
DTSTAMP:20260420T031326
CREATED:20231215T180106Z
LAST-MODIFIED:20231215T180109Z
UID:10005341-1916301600-1916307000@stjamesorillia.com
SUMMARY:Sunday Service
DESCRIPTION:
URL:https://stjamesorillia.com/event/sunday-service-2/2030-09-22/
LOCATION:St. James Anglican Church\, 58 Peter Street N.\, Orillia\, Ontario\, L3V 6J6\, Canada
CATEGORIES:Coming Events
ATTACH;FMTTYPE=image/jpeg:https://stjamesorillia.com/wp-content/uploads/2022/08/Sunday-August-28-2022.-10am-Morning-Worship.jpg
END:VEVENT
BEGIN:VEVENT
DTSTART;TZID=America/Toronto:20300925T110000
DTEND;TZID=America/Toronto:20300925T110000
DTSTAMP:20260420T031326
CREATED:20230925T214430Z
LAST-MODIFIED:20260126T191337Z
UID:10005705-1916564400-1916564400@stjamesorillia.com
SUMMARY:Mid Week Holy Eucharist
DESCRIPTION:
URL:https://stjamesorillia.com/event/mid-week-holy-eucharist/2030-09-25/
LOCATION:St. James Anglican Church\, 58 Peter Street N.\, Orillia\, Ontario\, L3V 6J6\, Canada
CATEGORIES:Coming Events
ATTACH;FMTTYPE=image/jpeg:https://stjamesorillia.com/wp-content/uploads/2023/09/Eucharist.jpg
END:VEVENT
BEGIN:VEVENT
DTSTART;TZID=America/Toronto:20300929T100000
DTEND;TZID=America/Toronto:20300929T100000
DTSTAMP:20260420T031326
CREATED:20231215T180646Z
LAST-MODIFIED:20231215T180646Z
UID:10005343-1916906400-1916906400@stjamesorillia.com
SUMMARY:Sunday Service with Live Stream
DESCRIPTION:
URL:https://stjamesorillia.com/event/sunday-service-with-live-stream/2030-09-29/
LOCATION:St. James Anglican Church\, 58 Peter Street N.\, Orillia\, Ontario\, L3V 6J6\, Canada
CATEGORIES:Coming Events
ATTACH;FMTTYPE=image/jpeg:https://stjamesorillia.com/wp-content/uploads/2022/08/Sunday-August-28-2022.-10am-Morning-Worship.jpg
END:VEVENT
BEGIN:VEVENT
DTSTART;TZID=America/Toronto:20300929T100000
DTEND;TZID=America/Toronto:20300929T113000
DTSTAMP:20260420T031326
CREATED:20231215T180106Z
LAST-MODIFIED:20231215T180109Z
UID:10005344-1916906400-1916911800@stjamesorillia.com
SUMMARY:Sunday Service
DESCRIPTION:
URL:https://stjamesorillia.com/event/sunday-service-2/2030-09-29/
LOCATION:St. James Anglican Church\, 58 Peter Street N.\, Orillia\, Ontario\, L3V 6J6\, Canada
CATEGORIES:Coming Events
ATTACH;FMTTYPE=image/jpeg:https://stjamesorillia.com/wp-content/uploads/2022/08/Sunday-August-28-2022.-10am-Morning-Worship.jpg
END:VEVENT
BEGIN:VEVENT
DTSTART;TZID=America/Toronto:20301002T110000
DTEND;TZID=America/Toronto:20301002T110000
DTSTAMP:20260420T031326
CREATED:20230925T214430Z
LAST-MODIFIED:20260126T191337Z
UID:10005706-1917169200-1917169200@stjamesorillia.com
SUMMARY:Mid Week Holy Eucharist
DESCRIPTION:
URL:https://stjamesorillia.com/event/mid-week-holy-eucharist/2030-10-02/
LOCATION:St. James Anglican Church\, 58 Peter Street N.\, Orillia\, Ontario\, L3V 6J6\, Canada
CATEGORIES:Coming Events
ATTACH;FMTTYPE=image/jpeg:https://stjamesorillia.com/wp-content/uploads/2023/09/Eucharist.jpg
END:VEVENT
BEGIN:VEVENT
DTSTART;TZID=America/Toronto:20301006T100000
DTEND;TZID=America/Toronto:20301006T100000
DTSTAMP:20260420T031326
CREATED:20231215T180646Z
LAST-MODIFIED:20231215T180646Z
UID:10005346-1917511200-1917511200@stjamesorillia.com
SUMMARY:Sunday Service with Live Stream
DESCRIPTION:
URL:https://stjamesorillia.com/event/sunday-service-with-live-stream/2030-10-06/
LOCATION:St. James Anglican Church\, 58 Peter Street N.\, Orillia\, Ontario\, L3V 6J6\, Canada
CATEGORIES:Coming Events
ATTACH;FMTTYPE=image/jpeg:https://stjamesorillia.com/wp-content/uploads/2022/08/Sunday-August-28-2022.-10am-Morning-Worship.jpg
END:VEVENT
BEGIN:VEVENT
DTSTART;TZID=America/Toronto:20301006T100000
DTEND;TZID=America/Toronto:20301006T113000
DTSTAMP:20260420T031326
CREATED:20231215T180106Z
LAST-MODIFIED:20231215T180109Z
UID:10005347-1917511200-1917516600@stjamesorillia.com
SUMMARY:Sunday Service
DESCRIPTION:
URL:https://stjamesorillia.com/event/sunday-service-2/2030-10-06/
LOCATION:St. James Anglican Church\, 58 Peter Street N.\, Orillia\, Ontario\, L3V 6J6\, Canada
CATEGORIES:Coming Events
ATTACH;FMTTYPE=image/jpeg:https://stjamesorillia.com/wp-content/uploads/2022/08/Sunday-August-28-2022.-10am-Morning-Worship.jpg
END:VEVENT
BEGIN:VEVENT
DTSTART;TZID=America/Toronto:20301009T110000
DTEND;TZID=America/Toronto:20301009T110000
DTSTAMP:20260420T031326
CREATED:20230925T214430Z
LAST-MODIFIED:20260126T191337Z
UID:10005707-1917774000-1917774000@stjamesorillia.com
SUMMARY:Mid Week Holy Eucharist
DESCRIPTION:
URL:https://stjamesorillia.com/event/mid-week-holy-eucharist/2030-10-09/
LOCATION:St. James Anglican Church\, 58 Peter Street N.\, Orillia\, Ontario\, L3V 6J6\, Canada
CATEGORIES:Coming Events
ATTACH;FMTTYPE=image/jpeg:https://stjamesorillia.com/wp-content/uploads/2023/09/Eucharist.jpg
END:VEVENT
BEGIN:VEVENT
DTSTART;TZID=America/Toronto:20301013T100000
DTEND;TZID=America/Toronto:20301013T100000
DTSTAMP:20260420T031326
CREATED:20231215T180646Z
LAST-MODIFIED:20231215T180646Z
UID:10005349-1918116000-1918116000@stjamesorillia.com
SUMMARY:Sunday Service with Live Stream
DESCRIPTION:
URL:https://stjamesorillia.com/event/sunday-service-with-live-stream/2030-10-13/
LOCATION:St. James Anglican Church\, 58 Peter Street N.\, Orillia\, Ontario\, L3V 6J6\, Canada
CATEGORIES:Coming Events
ATTACH;FMTTYPE=image/jpeg:https://stjamesorillia.com/wp-content/uploads/2022/08/Sunday-August-28-2022.-10am-Morning-Worship.jpg
END:VEVENT
BEGIN:VEVENT
DTSTART;TZID=America/Toronto:20301013T100000
DTEND;TZID=America/Toronto:20301013T113000
DTSTAMP:20260420T031326
CREATED:20231215T180106Z
LAST-MODIFIED:20231215T180109Z
UID:10005350-1918116000-1918121400@stjamesorillia.com
SUMMARY:Sunday Service
DESCRIPTION:
URL:https://stjamesorillia.com/event/sunday-service-2/2030-10-13/
LOCATION:St. James Anglican Church\, 58 Peter Street N.\, Orillia\, Ontario\, L3V 6J6\, Canada
CATEGORIES:Coming Events
ATTACH;FMTTYPE=image/jpeg:https://stjamesorillia.com/wp-content/uploads/2022/08/Sunday-August-28-2022.-10am-Morning-Worship.jpg
END:VEVENT
BEGIN:VEVENT
DTSTART;TZID=America/Toronto:20301016T110000
DTEND;TZID=America/Toronto:20301016T110000
DTSTAMP:20260420T031326
CREATED:20230925T214430Z
LAST-MODIFIED:20260126T191337Z
UID:10005708-1918378800-1918378800@stjamesorillia.com
SUMMARY:Mid Week Holy Eucharist
DESCRIPTION:
URL:https://stjamesorillia.com/event/mid-week-holy-eucharist/2030-10-16/
LOCATION:St. James Anglican Church\, 58 Peter Street N.\, Orillia\, Ontario\, L3V 6J6\, Canada
CATEGORIES:Coming Events
ATTACH;FMTTYPE=image/jpeg:https://stjamesorillia.com/wp-content/uploads/2023/09/Eucharist.jpg
END:VEVENT
BEGIN:VEVENT
DTSTART;TZID=America/Toronto:20301020T100000
DTEND;TZID=America/Toronto:20301020T100000
DTSTAMP:20260420T031326
CREATED:20231215T180646Z
LAST-MODIFIED:20231215T180646Z
UID:10005363-1918720800-1918720800@stjamesorillia.com
SUMMARY:Sunday Service with Live Stream
DESCRIPTION:
URL:https://stjamesorillia.com/event/sunday-service-with-live-stream/2030-10-20/
LOCATION:St. James Anglican Church\, 58 Peter Street N.\, Orillia\, Ontario\, L3V 6J6\, Canada
CATEGORIES:Coming Events
ATTACH;FMTTYPE=image/jpeg:https://stjamesorillia.com/wp-content/uploads/2022/08/Sunday-August-28-2022.-10am-Morning-Worship.jpg
END:VEVENT
BEGIN:VEVENT
DTSTART;TZID=America/Toronto:20301020T100000
DTEND;TZID=America/Toronto:20301020T113000
DTSTAMP:20260420T031326
CREATED:20231215T180106Z
LAST-MODIFIED:20231215T180109Z
UID:10005364-1918720800-1918726200@stjamesorillia.com
SUMMARY:Sunday Service
DESCRIPTION:
URL:https://stjamesorillia.com/event/sunday-service-2/2030-10-20/
LOCATION:St. James Anglican Church\, 58 Peter Street N.\, Orillia\, Ontario\, L3V 6J6\, Canada
CATEGORIES:Coming Events
ATTACH;FMTTYPE=image/jpeg:https://stjamesorillia.com/wp-content/uploads/2022/08/Sunday-August-28-2022.-10am-Morning-Worship.jpg
END:VEVENT
BEGIN:VEVENT
DTSTART;TZID=America/Toronto:20301023T110000
DTEND;TZID=America/Toronto:20301023T110000
DTSTAMP:20260420T031326
CREATED:20230925T214430Z
LAST-MODIFIED:20260126T191337Z
UID:10005709-1918983600-1918983600@stjamesorillia.com
SUMMARY:Mid Week Holy Eucharist
DESCRIPTION:
URL:https://stjamesorillia.com/event/mid-week-holy-eucharist/2030-10-23/
LOCATION:St. James Anglican Church\, 58 Peter Street N.\, Orillia\, Ontario\, L3V 6J6\, Canada
CATEGORIES:Coming Events
ATTACH;FMTTYPE=image/jpeg:https://stjamesorillia.com/wp-content/uploads/2023/09/Eucharist.jpg
END:VEVENT
BEGIN:VEVENT
DTSTART;TZID=America/Toronto:20301027T100000
DTEND;TZID=America/Toronto:20301027T100000
DTSTAMP:20260420T031326
CREATED:20231215T180646Z
LAST-MODIFIED:20231215T180646Z
UID:10005371-1919325600-1919325600@stjamesorillia.com
SUMMARY:Sunday Service with Live Stream
DESCRIPTION:
URL:https://stjamesorillia.com/event/sunday-service-with-live-stream/2030-10-27/
LOCATION:St. James Anglican Church\, 58 Peter Street N.\, Orillia\, Ontario\, L3V 6J6\, Canada
CATEGORIES:Coming Events
ATTACH;FMTTYPE=image/jpeg:https://stjamesorillia.com/wp-content/uploads/2022/08/Sunday-August-28-2022.-10am-Morning-Worship.jpg
END:VEVENT
BEGIN:VEVENT
DTSTART;TZID=America/Toronto:20301027T100000
DTEND;TZID=America/Toronto:20301027T113000
DTSTAMP:20260420T031326
CREATED:20231215T180106Z
LAST-MODIFIED:20231215T180109Z
UID:10005372-1919325600-1919331000@stjamesorillia.com
SUMMARY:Sunday Service
DESCRIPTION:
URL:https://stjamesorillia.com/event/sunday-service-2/2030-10-27/
LOCATION:St. James Anglican Church\, 58 Peter Street N.\, Orillia\, Ontario\, L3V 6J6\, Canada
CATEGORIES:Coming Events
ATTACH;FMTTYPE=image/jpeg:https://stjamesorillia.com/wp-content/uploads/2022/08/Sunday-August-28-2022.-10am-Morning-Worship.jpg
END:VEVENT
BEGIN:VEVENT
DTSTART;TZID=America/Toronto:20301030T110000
DTEND;TZID=America/Toronto:20301030T110000
DTSTAMP:20260420T031326
CREATED:20230925T214430Z
LAST-MODIFIED:20260126T191337Z
UID:10005710-1919588400-1919588400@stjamesorillia.com
SUMMARY:Mid Week Holy Eucharist
DESCRIPTION:
URL:https://stjamesorillia.com/event/mid-week-holy-eucharist/2030-10-30/
LOCATION:St. James Anglican Church\, 58 Peter Street N.\, Orillia\, Ontario\, L3V 6J6\, Canada
CATEGORIES:Coming Events
ATTACH;FMTTYPE=image/jpeg:https://stjamesorillia.com/wp-content/uploads/2023/09/Eucharist.jpg
END:VEVENT
BEGIN:VEVENT
DTSTART;TZID=America/Toronto:20301103T100000
DTEND;TZID=America/Toronto:20301103T100000
DTSTAMP:20260420T031326
CREATED:20231215T180646Z
LAST-MODIFIED:20231215T180646Z
UID:10005374-1919930400-1919930400@stjamesorillia.com
SUMMARY:Sunday Service with Live Stream
DESCRIPTION:
URL:https://stjamesorillia.com/event/sunday-service-with-live-stream/2030-11-03/
LOCATION:St. James Anglican Church\, 58 Peter Street N.\, Orillia\, Ontario\, L3V 6J6\, Canada
CATEGORIES:Coming Events
ATTACH;FMTTYPE=image/jpeg:https://stjamesorillia.com/wp-content/uploads/2022/08/Sunday-August-28-2022.-10am-Morning-Worship.jpg
END:VEVENT
BEGIN:VEVENT
DTSTART;TZID=America/Toronto:20301103T100000
DTEND;TZID=America/Toronto:20301103T113000
DTSTAMP:20260420T031326
CREATED:20231215T180106Z
LAST-MODIFIED:20231215T180109Z
UID:10005375-1919930400-1919935800@stjamesorillia.com
SUMMARY:Sunday Service
DESCRIPTION:
URL:https://stjamesorillia.com/event/sunday-service-2/2030-11-03/
LOCATION:St. James Anglican Church\, 58 Peter Street N.\, Orillia\, Ontario\, L3V 6J6\, Canada
CATEGORIES:Coming Events
ATTACH;FMTTYPE=image/jpeg:https://stjamesorillia.com/wp-content/uploads/2022/08/Sunday-August-28-2022.-10am-Morning-Worship.jpg
END:VEVENT
END:VCALENDAR