BEGIN:VCALENDAR
VERSION:2.0
PRODID:-//St. James’ Anglican Church, Orillia - ECPv6.15.20//NONSGML v1.0//EN
CALSCALE:GREGORIAN
METHOD:PUBLISH
X-WR-CALNAME:St. James’ Anglican Church, Orillia
X-ORIGINAL-URL:https://stjamesorillia.com
X-WR-CALDESC:Events for St. James’ Anglican Church, Orillia
REFRESH-INTERVAL;VALUE=DURATION:PT1H
X-Robots-Tag:noindex
X-PUBLISHED-TTL:PT1H
BEGIN:VTIMEZONE
TZID:America/Toronto
BEGIN:DAYLIGHT
TZOFFSETFROM:-0500
TZOFFSETTO:-0400
TZNAME:EDT
DTSTART:20290311T070000
END:DAYLIGHT
BEGIN:STANDARD
TZOFFSETFROM:-0400
TZOFFSETTO:-0500
TZNAME:EST
DTSTART:20291104T060000
END:STANDARD
BEGIN:DAYLIGHT
TZOFFSETFROM:-0500
TZOFFSETTO:-0400
TZNAME:EDT
DTSTART:20300310T070000
END:DAYLIGHT
BEGIN:STANDARD
TZOFFSETFROM:-0400
TZOFFSETTO:-0500
TZNAME:EST
DTSTART:20301103T060000
END:STANDARD
BEGIN:DAYLIGHT
TZOFFSETFROM:-0500
TZOFFSETTO:-0400
TZNAME:EDT
DTSTART:20310309T070000
END:DAYLIGHT
BEGIN:STANDARD
TZOFFSETFROM:-0400
TZOFFSETTO:-0500
TZNAME:EST
DTSTART:20311102T060000
END:STANDARD
END:VTIMEZONE
BEGIN:VEVENT
DTSTART;TZID=America/Toronto:20300526T100000
DTEND;TZID=America/Toronto:20300526T113000
DTSTAMP:20260419T204538
CREATED:20231215T180106Z
LAST-MODIFIED:20231215T180109Z
UID:10005271-1906020000-1906025400@stjamesorillia.com
SUMMARY:Sunday Service
DESCRIPTION:
URL:https://stjamesorillia.com/event/sunday-service-2/2030-05-26/
LOCATION:St. James Anglican Church\, 58 Peter Street N.\, Orillia\, Ontario\, L3V 6J6\, Canada
CATEGORIES:Coming Events
ATTACH;FMTTYPE=image/jpeg:https://stjamesorillia.com/wp-content/uploads/2022/08/Sunday-August-28-2022.-10am-Morning-Worship.jpg
END:VEVENT
BEGIN:VEVENT
DTSTART;TZID=America/Toronto:20300529T110000
DTEND;TZID=America/Toronto:20300529T110000
DTSTAMP:20260419T204538
CREATED:20230925T214430Z
LAST-MODIFIED:20260126T191337Z
UID:10005688-1906282800-1906282800@stjamesorillia.com
SUMMARY:Mid Week Holy Eucharist
DESCRIPTION:
URL:https://stjamesorillia.com/event/mid-week-holy-eucharist/2030-05-29/
LOCATION:St. James Anglican Church\, 58 Peter Street N.\, Orillia\, Ontario\, L3V 6J6\, Canada
CATEGORIES:Coming Events
ATTACH;FMTTYPE=image/jpeg:https://stjamesorillia.com/wp-content/uploads/2023/09/Eucharist.jpg
END:VEVENT
BEGIN:VEVENT
DTSTART;TZID=America/Toronto:20300602T100000
DTEND;TZID=America/Toronto:20300602T100000
DTSTAMP:20260419T204538
CREATED:20231215T180646Z
LAST-MODIFIED:20231215T180646Z
UID:10005273-1906624800-1906624800@stjamesorillia.com
SUMMARY:Sunday Service with Live Stream
DESCRIPTION:
URL:https://stjamesorillia.com/event/sunday-service-with-live-stream/2030-06-02/
LOCATION:St. James Anglican Church\, 58 Peter Street N.\, Orillia\, Ontario\, L3V 6J6\, Canada
CATEGORIES:Coming Events
ATTACH;FMTTYPE=image/jpeg:https://stjamesorillia.com/wp-content/uploads/2022/08/Sunday-August-28-2022.-10am-Morning-Worship.jpg
END:VEVENT
BEGIN:VEVENT
DTSTART;TZID=America/Toronto:20300602T100000
DTEND;TZID=America/Toronto:20300602T113000
DTSTAMP:20260419T204538
CREATED:20231215T180106Z
LAST-MODIFIED:20231215T180109Z
UID:10005274-1906624800-1906630200@stjamesorillia.com
SUMMARY:Sunday Service
DESCRIPTION:
URL:https://stjamesorillia.com/event/sunday-service-2/2030-06-02/
LOCATION:St. James Anglican Church\, 58 Peter Street N.\, Orillia\, Ontario\, L3V 6J6\, Canada
CATEGORIES:Coming Events
ATTACH;FMTTYPE=image/jpeg:https://stjamesorillia.com/wp-content/uploads/2022/08/Sunday-August-28-2022.-10am-Morning-Worship.jpg
END:VEVENT
BEGIN:VEVENT
DTSTART;TZID=America/Toronto:20300605T110000
DTEND;TZID=America/Toronto:20300605T110000
DTSTAMP:20260419T204538
CREATED:20230925T214430Z
LAST-MODIFIED:20260126T191337Z
UID:10005689-1906887600-1906887600@stjamesorillia.com
SUMMARY:Mid Week Holy Eucharist
DESCRIPTION:
URL:https://stjamesorillia.com/event/mid-week-holy-eucharist/2030-06-05/
LOCATION:St. James Anglican Church\, 58 Peter Street N.\, Orillia\, Ontario\, L3V 6J6\, Canada
CATEGORIES:Coming Events
ATTACH;FMTTYPE=image/jpeg:https://stjamesorillia.com/wp-content/uploads/2023/09/Eucharist.jpg
END:VEVENT
BEGIN:VEVENT
DTSTART;TZID=America/Toronto:20300609T100000
DTEND;TZID=America/Toronto:20300609T100000
DTSTAMP:20260419T204538
CREATED:20231215T180646Z
LAST-MODIFIED:20231215T180646Z
UID:10005276-1907229600-1907229600@stjamesorillia.com
SUMMARY:Sunday Service with Live Stream
DESCRIPTION:
URL:https://stjamesorillia.com/event/sunday-service-with-live-stream/2030-06-09/
LOCATION:St. James Anglican Church\, 58 Peter Street N.\, Orillia\, Ontario\, L3V 6J6\, Canada
CATEGORIES:Coming Events
ATTACH;FMTTYPE=image/jpeg:https://stjamesorillia.com/wp-content/uploads/2022/08/Sunday-August-28-2022.-10am-Morning-Worship.jpg
END:VEVENT
BEGIN:VEVENT
DTSTART;TZID=America/Toronto:20300609T100000
DTEND;TZID=America/Toronto:20300609T113000
DTSTAMP:20260419T204538
CREATED:20231215T180106Z
LAST-MODIFIED:20231215T180109Z
UID:10005277-1907229600-1907235000@stjamesorillia.com
SUMMARY:Sunday Service
DESCRIPTION:
URL:https://stjamesorillia.com/event/sunday-service-2/2030-06-09/
LOCATION:St. James Anglican Church\, 58 Peter Street N.\, Orillia\, Ontario\, L3V 6J6\, Canada
CATEGORIES:Coming Events
ATTACH;FMTTYPE=image/jpeg:https://stjamesorillia.com/wp-content/uploads/2022/08/Sunday-August-28-2022.-10am-Morning-Worship.jpg
END:VEVENT
BEGIN:VEVENT
DTSTART;TZID=America/Toronto:20300612T110000
DTEND;TZID=America/Toronto:20300612T110000
DTSTAMP:20260419T204538
CREATED:20230925T214430Z
LAST-MODIFIED:20260126T191337Z
UID:10005690-1907492400-1907492400@stjamesorillia.com
SUMMARY:Mid Week Holy Eucharist
DESCRIPTION:
URL:https://stjamesorillia.com/event/mid-week-holy-eucharist/2030-06-12/
LOCATION:St. James Anglican Church\, 58 Peter Street N.\, Orillia\, Ontario\, L3V 6J6\, Canada
CATEGORIES:Coming Events
ATTACH;FMTTYPE=image/jpeg:https://stjamesorillia.com/wp-content/uploads/2023/09/Eucharist.jpg
END:VEVENT
BEGIN:VEVENT
DTSTART;TZID=America/Toronto:20300616T100000
DTEND;TZID=America/Toronto:20300616T100000
DTSTAMP:20260419T204538
CREATED:20231215T180646Z
LAST-MODIFIED:20231215T180646Z
UID:10005279-1907834400-1907834400@stjamesorillia.com
SUMMARY:Sunday Service with Live Stream
DESCRIPTION:
URL:https://stjamesorillia.com/event/sunday-service-with-live-stream/2030-06-16/
LOCATION:St. James Anglican Church\, 58 Peter Street N.\, Orillia\, Ontario\, L3V 6J6\, Canada
CATEGORIES:Coming Events
ATTACH;FMTTYPE=image/jpeg:https://stjamesorillia.com/wp-content/uploads/2022/08/Sunday-August-28-2022.-10am-Morning-Worship.jpg
END:VEVENT
BEGIN:VEVENT
DTSTART;TZID=America/Toronto:20300616T100000
DTEND;TZID=America/Toronto:20300616T113000
DTSTAMP:20260419T204538
CREATED:20231215T180106Z
LAST-MODIFIED:20231215T180109Z
UID:10005280-1907834400-1907839800@stjamesorillia.com
SUMMARY:Sunday Service
DESCRIPTION:
URL:https://stjamesorillia.com/event/sunday-service-2/2030-06-16/
LOCATION:St. James Anglican Church\, 58 Peter Street N.\, Orillia\, Ontario\, L3V 6J6\, Canada
CATEGORIES:Coming Events
ATTACH;FMTTYPE=image/jpeg:https://stjamesorillia.com/wp-content/uploads/2022/08/Sunday-August-28-2022.-10am-Morning-Worship.jpg
END:VEVENT
BEGIN:VEVENT
DTSTART;TZID=America/Toronto:20300619T110000
DTEND;TZID=America/Toronto:20300619T110000
DTSTAMP:20260419T204538
CREATED:20230925T214430Z
LAST-MODIFIED:20260126T191337Z
UID:10005691-1908097200-1908097200@stjamesorillia.com
SUMMARY:Mid Week Holy Eucharist
DESCRIPTION:
URL:https://stjamesorillia.com/event/mid-week-holy-eucharist/2030-06-19/
LOCATION:St. James Anglican Church\, 58 Peter Street N.\, Orillia\, Ontario\, L3V 6J6\, Canada
CATEGORIES:Coming Events
ATTACH;FMTTYPE=image/jpeg:https://stjamesorillia.com/wp-content/uploads/2023/09/Eucharist.jpg
END:VEVENT
BEGIN:VEVENT
DTSTART;TZID=America/Toronto:20300623T100000
DTEND;TZID=America/Toronto:20300623T100000
DTSTAMP:20260419T204538
CREATED:20231215T180646Z
LAST-MODIFIED:20231215T180646Z
UID:10005291-1908439200-1908439200@stjamesorillia.com
SUMMARY:Sunday Service with Live Stream
DESCRIPTION:
URL:https://stjamesorillia.com/event/sunday-service-with-live-stream/2030-06-23/
LOCATION:St. James Anglican Church\, 58 Peter Street N.\, Orillia\, Ontario\, L3V 6J6\, Canada
CATEGORIES:Coming Events
ATTACH;FMTTYPE=image/jpeg:https://stjamesorillia.com/wp-content/uploads/2022/08/Sunday-August-28-2022.-10am-Morning-Worship.jpg
END:VEVENT
BEGIN:VEVENT
DTSTART;TZID=America/Toronto:20300623T100000
DTEND;TZID=America/Toronto:20300623T113000
DTSTAMP:20260419T204538
CREATED:20231215T180106Z
LAST-MODIFIED:20231215T180109Z
UID:10005292-1908439200-1908444600@stjamesorillia.com
SUMMARY:Sunday Service
DESCRIPTION:
URL:https://stjamesorillia.com/event/sunday-service-2/2030-06-23/
LOCATION:St. James Anglican Church\, 58 Peter Street N.\, Orillia\, Ontario\, L3V 6J6\, Canada
CATEGORIES:Coming Events
ATTACH;FMTTYPE=image/jpeg:https://stjamesorillia.com/wp-content/uploads/2022/08/Sunday-August-28-2022.-10am-Morning-Worship.jpg
END:VEVENT
BEGIN:VEVENT
DTSTART;TZID=America/Toronto:20300626T110000
DTEND;TZID=America/Toronto:20300626T110000
DTSTAMP:20260419T204538
CREATED:20230925T214430Z
LAST-MODIFIED:20260126T191337Z
UID:10005692-1908702000-1908702000@stjamesorillia.com
SUMMARY:Mid Week Holy Eucharist
DESCRIPTION:
URL:https://stjamesorillia.com/event/mid-week-holy-eucharist/2030-06-26/
LOCATION:St. James Anglican Church\, 58 Peter Street N.\, Orillia\, Ontario\, L3V 6J6\, Canada
CATEGORIES:Coming Events
ATTACH;FMTTYPE=image/jpeg:https://stjamesorillia.com/wp-content/uploads/2023/09/Eucharist.jpg
END:VEVENT
BEGIN:VEVENT
DTSTART;TZID=America/Toronto:20300630T100000
DTEND;TZID=America/Toronto:20300630T100000
DTSTAMP:20260419T204538
CREATED:20231215T180646Z
LAST-MODIFIED:20231215T180646Z
UID:10005294-1909044000-1909044000@stjamesorillia.com
SUMMARY:Sunday Service with Live Stream
DESCRIPTION:
URL:https://stjamesorillia.com/event/sunday-service-with-live-stream/2030-06-30/
LOCATION:St. James Anglican Church\, 58 Peter Street N.\, Orillia\, Ontario\, L3V 6J6\, Canada
CATEGORIES:Coming Events
ATTACH;FMTTYPE=image/jpeg:https://stjamesorillia.com/wp-content/uploads/2022/08/Sunday-August-28-2022.-10am-Morning-Worship.jpg
END:VEVENT
BEGIN:VEVENT
DTSTART;TZID=America/Toronto:20300630T100000
DTEND;TZID=America/Toronto:20300630T113000
DTSTAMP:20260419T204538
CREATED:20231215T180106Z
LAST-MODIFIED:20231215T180109Z
UID:10005295-1909044000-1909049400@stjamesorillia.com
SUMMARY:Sunday Service
DESCRIPTION:
URL:https://stjamesorillia.com/event/sunday-service-2/2030-06-30/
LOCATION:St. James Anglican Church\, 58 Peter Street N.\, Orillia\, Ontario\, L3V 6J6\, Canada
CATEGORIES:Coming Events
ATTACH;FMTTYPE=image/jpeg:https://stjamesorillia.com/wp-content/uploads/2022/08/Sunday-August-28-2022.-10am-Morning-Worship.jpg
END:VEVENT
BEGIN:VEVENT
DTSTART;TZID=America/Toronto:20300703T110000
DTEND;TZID=America/Toronto:20300703T110000
DTSTAMP:20260419T204538
CREATED:20230925T214430Z
LAST-MODIFIED:20260126T191337Z
UID:10005693-1909306800-1909306800@stjamesorillia.com
SUMMARY:Mid Week Holy Eucharist
DESCRIPTION:
URL:https://stjamesorillia.com/event/mid-week-holy-eucharist/2030-07-03/
LOCATION:St. James Anglican Church\, 58 Peter Street N.\, Orillia\, Ontario\, L3V 6J6\, Canada
CATEGORIES:Coming Events
ATTACH;FMTTYPE=image/jpeg:https://stjamesorillia.com/wp-content/uploads/2023/09/Eucharist.jpg
END:VEVENT
BEGIN:VEVENT
DTSTART;TZID=America/Toronto:20300707T100000
DTEND;TZID=America/Toronto:20300707T100000
DTSTAMP:20260419T204538
CREATED:20231215T180646Z
LAST-MODIFIED:20231215T180646Z
UID:10005297-1909648800-1909648800@stjamesorillia.com
SUMMARY:Sunday Service with Live Stream
DESCRIPTION:
URL:https://stjamesorillia.com/event/sunday-service-with-live-stream/2030-07-07/
LOCATION:St. James Anglican Church\, 58 Peter Street N.\, Orillia\, Ontario\, L3V 6J6\, Canada
CATEGORIES:Coming Events
ATTACH;FMTTYPE=image/jpeg:https://stjamesorillia.com/wp-content/uploads/2022/08/Sunday-August-28-2022.-10am-Morning-Worship.jpg
END:VEVENT
BEGIN:VEVENT
DTSTART;TZID=America/Toronto:20300707T100000
DTEND;TZID=America/Toronto:20300707T113000
DTSTAMP:20260419T204538
CREATED:20231215T180106Z
LAST-MODIFIED:20231215T180109Z
UID:10005298-1909648800-1909654200@stjamesorillia.com
SUMMARY:Sunday Service
DESCRIPTION:
URL:https://stjamesorillia.com/event/sunday-service-2/2030-07-07/
LOCATION:St. James Anglican Church\, 58 Peter Street N.\, Orillia\, Ontario\, L3V 6J6\, Canada
CATEGORIES:Coming Events
ATTACH;FMTTYPE=image/jpeg:https://stjamesorillia.com/wp-content/uploads/2022/08/Sunday-August-28-2022.-10am-Morning-Worship.jpg
END:VEVENT
BEGIN:VEVENT
DTSTART;TZID=America/Toronto:20300710T110000
DTEND;TZID=America/Toronto:20300710T110000
DTSTAMP:20260419T204538
CREATED:20230925T214430Z
LAST-MODIFIED:20260126T191337Z
UID:10005694-1909911600-1909911600@stjamesorillia.com
SUMMARY:Mid Week Holy Eucharist
DESCRIPTION:
URL:https://stjamesorillia.com/event/mid-week-holy-eucharist/2030-07-10/
LOCATION:St. James Anglican Church\, 58 Peter Street N.\, Orillia\, Ontario\, L3V 6J6\, Canada
CATEGORIES:Coming Events
ATTACH;FMTTYPE=image/jpeg:https://stjamesorillia.com/wp-content/uploads/2023/09/Eucharist.jpg
END:VEVENT
BEGIN:VEVENT
DTSTART;TZID=America/Toronto:20300714T100000
DTEND;TZID=America/Toronto:20300714T100000
DTSTAMP:20260419T204538
CREATED:20231215T180646Z
LAST-MODIFIED:20231215T180646Z
UID:10005310-1910253600-1910253600@stjamesorillia.com
SUMMARY:Sunday Service with Live Stream
DESCRIPTION:
URL:https://stjamesorillia.com/event/sunday-service-with-live-stream/2030-07-14/
LOCATION:St. James Anglican Church\, 58 Peter Street N.\, Orillia\, Ontario\, L3V 6J6\, Canada
CATEGORIES:Coming Events
ATTACH;FMTTYPE=image/jpeg:https://stjamesorillia.com/wp-content/uploads/2022/08/Sunday-August-28-2022.-10am-Morning-Worship.jpg
END:VEVENT
BEGIN:VEVENT
DTSTART;TZID=America/Toronto:20300714T100000
DTEND;TZID=America/Toronto:20300714T113000
DTSTAMP:20260419T204538
CREATED:20231215T180106Z
LAST-MODIFIED:20231215T180109Z
UID:10005311-1910253600-1910259000@stjamesorillia.com
SUMMARY:Sunday Service
DESCRIPTION:
URL:https://stjamesorillia.com/event/sunday-service-2/2030-07-14/
LOCATION:St. James Anglican Church\, 58 Peter Street N.\, Orillia\, Ontario\, L3V 6J6\, Canada
CATEGORIES:Coming Events
ATTACH;FMTTYPE=image/jpeg:https://stjamesorillia.com/wp-content/uploads/2022/08/Sunday-August-28-2022.-10am-Morning-Worship.jpg
END:VEVENT
BEGIN:VEVENT
DTSTART;TZID=America/Toronto:20300717T110000
DTEND;TZID=America/Toronto:20300717T110000
DTSTAMP:20260419T204538
CREATED:20230925T214430Z
LAST-MODIFIED:20260126T191337Z
UID:10005695-1910516400-1910516400@stjamesorillia.com
SUMMARY:Mid Week Holy Eucharist
DESCRIPTION:
URL:https://stjamesorillia.com/event/mid-week-holy-eucharist/2030-07-17/
LOCATION:St. James Anglican Church\, 58 Peter Street N.\, Orillia\, Ontario\, L3V 6J6\, Canada
CATEGORIES:Coming Events
ATTACH;FMTTYPE=image/jpeg:https://stjamesorillia.com/wp-content/uploads/2023/09/Eucharist.jpg
END:VEVENT
BEGIN:VEVENT
DTSTART;TZID=America/Toronto:20300721T100000
DTEND;TZID=America/Toronto:20300721T100000
DTSTAMP:20260419T204538
CREATED:20231215T180646Z
LAST-MODIFIED:20231215T180646Z
UID:10005313-1910858400-1910858400@stjamesorillia.com
SUMMARY:Sunday Service with Live Stream
DESCRIPTION:
URL:https://stjamesorillia.com/event/sunday-service-with-live-stream/2030-07-21/
LOCATION:St. James Anglican Church\, 58 Peter Street N.\, Orillia\, Ontario\, L3V 6J6\, Canada
CATEGORIES:Coming Events
ATTACH;FMTTYPE=image/jpeg:https://stjamesorillia.com/wp-content/uploads/2022/08/Sunday-August-28-2022.-10am-Morning-Worship.jpg
END:VEVENT
BEGIN:VEVENT
DTSTART;TZID=America/Toronto:20300721T100000
DTEND;TZID=America/Toronto:20300721T113000
DTSTAMP:20260419T204538
CREATED:20231215T180106Z
LAST-MODIFIED:20231215T180109Z
UID:10005314-1910858400-1910863800@stjamesorillia.com
SUMMARY:Sunday Service
DESCRIPTION:
URL:https://stjamesorillia.com/event/sunday-service-2/2030-07-21/
LOCATION:St. James Anglican Church\, 58 Peter Street N.\, Orillia\, Ontario\, L3V 6J6\, Canada
CATEGORIES:Coming Events
ATTACH;FMTTYPE=image/jpeg:https://stjamesorillia.com/wp-content/uploads/2022/08/Sunday-August-28-2022.-10am-Morning-Worship.jpg
END:VEVENT
BEGIN:VEVENT
DTSTART;TZID=America/Toronto:20300724T110000
DTEND;TZID=America/Toronto:20300724T110000
DTSTAMP:20260419T204538
CREATED:20230925T214430Z
LAST-MODIFIED:20260126T191337Z
UID:10005696-1911121200-1911121200@stjamesorillia.com
SUMMARY:Mid Week Holy Eucharist
DESCRIPTION:
URL:https://stjamesorillia.com/event/mid-week-holy-eucharist/2030-07-24/
LOCATION:St. James Anglican Church\, 58 Peter Street N.\, Orillia\, Ontario\, L3V 6J6\, Canada
CATEGORIES:Coming Events
ATTACH;FMTTYPE=image/jpeg:https://stjamesorillia.com/wp-content/uploads/2023/09/Eucharist.jpg
END:VEVENT
BEGIN:VEVENT
DTSTART;TZID=America/Toronto:20300728T100000
DTEND;TZID=America/Toronto:20300728T100000
DTSTAMP:20260419T204538
CREATED:20231215T180646Z
LAST-MODIFIED:20231215T180646Z
UID:10005316-1911463200-1911463200@stjamesorillia.com
SUMMARY:Sunday Service with Live Stream
DESCRIPTION:
URL:https://stjamesorillia.com/event/sunday-service-with-live-stream/2030-07-28/
LOCATION:St. James Anglican Church\, 58 Peter Street N.\, Orillia\, Ontario\, L3V 6J6\, Canada
CATEGORIES:Coming Events
ATTACH;FMTTYPE=image/jpeg:https://stjamesorillia.com/wp-content/uploads/2022/08/Sunday-August-28-2022.-10am-Morning-Worship.jpg
END:VEVENT
BEGIN:VEVENT
DTSTART;TZID=America/Toronto:20300728T100000
DTEND;TZID=America/Toronto:20300728T113000
DTSTAMP:20260419T204538
CREATED:20231215T180106Z
LAST-MODIFIED:20231215T180109Z
UID:10005317-1911463200-1911468600@stjamesorillia.com
SUMMARY:Sunday Service
DESCRIPTION:
URL:https://stjamesorillia.com/event/sunday-service-2/2030-07-28/
LOCATION:St. James Anglican Church\, 58 Peter Street N.\, Orillia\, Ontario\, L3V 6J6\, Canada
CATEGORIES:Coming Events
ATTACH;FMTTYPE=image/jpeg:https://stjamesorillia.com/wp-content/uploads/2022/08/Sunday-August-28-2022.-10am-Morning-Worship.jpg
END:VEVENT
BEGIN:VEVENT
DTSTART;TZID=America/Toronto:20300731T110000
DTEND;TZID=America/Toronto:20300731T110000
DTSTAMP:20260419T204538
CREATED:20230925T214430Z
LAST-MODIFIED:20260126T191337Z
UID:10005697-1911726000-1911726000@stjamesorillia.com
SUMMARY:Mid Week Holy Eucharist
DESCRIPTION:
URL:https://stjamesorillia.com/event/mid-week-holy-eucharist/2030-07-31/
LOCATION:St. James Anglican Church\, 58 Peter Street N.\, Orillia\, Ontario\, L3V 6J6\, Canada
CATEGORIES:Coming Events
ATTACH;FMTTYPE=image/jpeg:https://stjamesorillia.com/wp-content/uploads/2023/09/Eucharist.jpg
END:VEVENT
BEGIN:VEVENT
DTSTART;TZID=America/Toronto:20300804T100000
DTEND;TZID=America/Toronto:20300804T100000
DTSTAMP:20260419T204538
CREATED:20231215T180646Z
LAST-MODIFIED:20231215T180646Z
UID:10005319-1912068000-1912068000@stjamesorillia.com
SUMMARY:Sunday Service with Live Stream
DESCRIPTION:
URL:https://stjamesorillia.com/event/sunday-service-with-live-stream/2030-08-04/
LOCATION:St. James Anglican Church\, 58 Peter Street N.\, Orillia\, Ontario\, L3V 6J6\, Canada
CATEGORIES:Coming Events
ATTACH;FMTTYPE=image/jpeg:https://stjamesorillia.com/wp-content/uploads/2022/08/Sunday-August-28-2022.-10am-Morning-Worship.jpg
END:VEVENT
END:VCALENDAR