BEGIN:VCALENDAR
VERSION:2.0
PRODID:-//St. James’ Anglican Church, Orillia - ECPv6.15.20//NONSGML v1.0//EN
CALSCALE:GREGORIAN
METHOD:PUBLISH
X-WR-CALNAME:St. James’ Anglican Church, Orillia
X-ORIGINAL-URL:https://stjamesorillia.com
X-WR-CALDESC:Events for St. James’ Anglican Church, Orillia
REFRESH-INTERVAL;VALUE=DURATION:PT1H
X-Robots-Tag:noindex
X-PUBLISHED-TTL:PT1H
BEGIN:VTIMEZONE
TZID:America/Toronto
BEGIN:DAYLIGHT
TZOFFSETFROM:-0500
TZOFFSETTO:-0400
TZNAME:EDT
DTSTART:20300310T070000
END:DAYLIGHT
BEGIN:STANDARD
TZOFFSETFROM:-0400
TZOFFSETTO:-0500
TZNAME:EST
DTSTART:20301103T060000
END:STANDARD
BEGIN:DAYLIGHT
TZOFFSETFROM:-0500
TZOFFSETTO:-0400
TZNAME:EDT
DTSTART:20310309T070000
END:DAYLIGHT
BEGIN:STANDARD
TZOFFSETFROM:-0400
TZOFFSETTO:-0500
TZNAME:EST
DTSTART:20311102T060000
END:STANDARD
BEGIN:DAYLIGHT
TZOFFSETFROM:-0500
TZOFFSETTO:-0400
TZNAME:EDT
DTSTART:20320314T070000
END:DAYLIGHT
BEGIN:STANDARD
TZOFFSETFROM:-0400
TZOFFSETTO:-0500
TZNAME:EST
DTSTART:20321107T060000
END:STANDARD
END:VTIMEZONE
BEGIN:VEVENT
DTSTART;TZID=America/Toronto:20310105T100000
DTEND;TZID=America/Toronto:20310105T100000
DTSTAMP:20260421T005909
CREATED:20231215T180646Z
LAST-MODIFIED:20231215T180646Z
UID:10005401-1925373600-1925373600@stjamesorillia.com
SUMMARY:Sunday Service with Live Stream
DESCRIPTION:
URL:https://stjamesorillia.com/event/sunday-service-with-live-stream/2031-01-05/
LOCATION:St. James Anglican Church\, 58 Peter Street N.\, Orillia\, Ontario\, L3V 6J6\, Canada
CATEGORIES:Coming Events
ATTACH;FMTTYPE=image/jpeg:https://stjamesorillia.com/wp-content/uploads/2022/08/Sunday-August-28-2022.-10am-Morning-Worship.jpg
END:VEVENT
BEGIN:VEVENT
DTSTART;TZID=America/Toronto:20310105T100000
DTEND;TZID=America/Toronto:20310105T113000
DTSTAMP:20260421T005909
CREATED:20231215T180106Z
LAST-MODIFIED:20231215T180109Z
UID:10005402-1925373600-1925379000@stjamesorillia.com
SUMMARY:Sunday Service
DESCRIPTION:
URL:https://stjamesorillia.com/event/sunday-service-2/2031-01-05/
LOCATION:St. James Anglican Church\, 58 Peter Street N.\, Orillia\, Ontario\, L3V 6J6\, Canada
CATEGORIES:Coming Events
ATTACH;FMTTYPE=image/jpeg:https://stjamesorillia.com/wp-content/uploads/2022/08/Sunday-August-28-2022.-10am-Morning-Worship.jpg
END:VEVENT
BEGIN:VEVENT
DTSTART;TZID=America/Toronto:20310108T110000
DTEND;TZID=America/Toronto:20310108T110000
DTSTAMP:20260421T005909
CREATED:20230925T214430Z
LAST-MODIFIED:20260126T191337Z
UID:10005720-1925636400-1925636400@stjamesorillia.com
SUMMARY:Mid Week Holy Eucharist
DESCRIPTION:
URL:https://stjamesorillia.com/event/mid-week-holy-eucharist/2031-01-08/
LOCATION:St. James Anglican Church\, 58 Peter Street N.\, Orillia\, Ontario\, L3V 6J6\, Canada
CATEGORIES:Coming Events
ATTACH;FMTTYPE=image/jpeg:https://stjamesorillia.com/wp-content/uploads/2023/09/Eucharist.jpg
END:VEVENT
BEGIN:VEVENT
DTSTART;TZID=America/Toronto:20310112T100000
DTEND;TZID=America/Toronto:20310112T100000
DTSTAMP:20260421T005909
CREATED:20231215T180646Z
LAST-MODIFIED:20231215T180646Z
UID:10005404-1925978400-1925978400@stjamesorillia.com
SUMMARY:Sunday Service with Live Stream
DESCRIPTION:
URL:https://stjamesorillia.com/event/sunday-service-with-live-stream/2031-01-12/
LOCATION:St. James Anglican Church\, 58 Peter Street N.\, Orillia\, Ontario\, L3V 6J6\, Canada
CATEGORIES:Coming Events
ATTACH;FMTTYPE=image/jpeg:https://stjamesorillia.com/wp-content/uploads/2022/08/Sunday-August-28-2022.-10am-Morning-Worship.jpg
END:VEVENT
BEGIN:VEVENT
DTSTART;TZID=America/Toronto:20310112T100000
DTEND;TZID=America/Toronto:20310112T113000
DTSTAMP:20260421T005909
CREATED:20231215T180106Z
LAST-MODIFIED:20231215T180109Z
UID:10005405-1925978400-1925983800@stjamesorillia.com
SUMMARY:Sunday Service
DESCRIPTION:
URL:https://stjamesorillia.com/event/sunday-service-2/2031-01-12/
LOCATION:St. James Anglican Church\, 58 Peter Street N.\, Orillia\, Ontario\, L3V 6J6\, Canada
CATEGORIES:Coming Events
ATTACH;FMTTYPE=image/jpeg:https://stjamesorillia.com/wp-content/uploads/2022/08/Sunday-August-28-2022.-10am-Morning-Worship.jpg
END:VEVENT
BEGIN:VEVENT
DTSTART;TZID=America/Toronto:20310115T110000
DTEND;TZID=America/Toronto:20310115T110000
DTSTAMP:20260421T005909
CREATED:20230925T214430Z
LAST-MODIFIED:20260126T191337Z
UID:10005721-1926241200-1926241200@stjamesorillia.com
SUMMARY:Mid Week Holy Eucharist
DESCRIPTION:
URL:https://stjamesorillia.com/event/mid-week-holy-eucharist/2031-01-15/
LOCATION:St. James Anglican Church\, 58 Peter Street N.\, Orillia\, Ontario\, L3V 6J6\, Canada
CATEGORIES:Coming Events
ATTACH;FMTTYPE=image/jpeg:https://stjamesorillia.com/wp-content/uploads/2023/09/Eucharist.jpg
END:VEVENT
BEGIN:VEVENT
DTSTART;TZID=America/Toronto:20310119T100000
DTEND;TZID=America/Toronto:20310119T100000
DTSTAMP:20260421T005909
CREATED:20231215T180646Z
LAST-MODIFIED:20231215T180646Z
UID:10005407-1926583200-1926583200@stjamesorillia.com
SUMMARY:Sunday Service with Live Stream
DESCRIPTION:
URL:https://stjamesorillia.com/event/sunday-service-with-live-stream/2031-01-19/
LOCATION:St. James Anglican Church\, 58 Peter Street N.\, Orillia\, Ontario\, L3V 6J6\, Canada
CATEGORIES:Coming Events
ATTACH;FMTTYPE=image/jpeg:https://stjamesorillia.com/wp-content/uploads/2022/08/Sunday-August-28-2022.-10am-Morning-Worship.jpg
END:VEVENT
BEGIN:VEVENT
DTSTART;TZID=America/Toronto:20310119T100000
DTEND;TZID=America/Toronto:20310119T113000
DTSTAMP:20260421T005909
CREATED:20231215T180106Z
LAST-MODIFIED:20231215T180109Z
UID:10005408-1926583200-1926588600@stjamesorillia.com
SUMMARY:Sunday Service
DESCRIPTION:
URL:https://stjamesorillia.com/event/sunday-service-2/2031-01-19/
LOCATION:St. James Anglican Church\, 58 Peter Street N.\, Orillia\, Ontario\, L3V 6J6\, Canada
CATEGORIES:Coming Events
ATTACH;FMTTYPE=image/jpeg:https://stjamesorillia.com/wp-content/uploads/2022/08/Sunday-August-28-2022.-10am-Morning-Worship.jpg
END:VEVENT
BEGIN:VEVENT
DTSTART;TZID=America/Toronto:20310122T110000
DTEND;TZID=America/Toronto:20310122T110000
DTSTAMP:20260421T005909
CREATED:20230925T214430Z
LAST-MODIFIED:20260126T191337Z
UID:10005722-1926846000-1926846000@stjamesorillia.com
SUMMARY:Mid Week Holy Eucharist
DESCRIPTION:
URL:https://stjamesorillia.com/event/mid-week-holy-eucharist/2031-01-22/
LOCATION:St. James Anglican Church\, 58 Peter Street N.\, Orillia\, Ontario\, L3V 6J6\, Canada
CATEGORIES:Coming Events
ATTACH;FMTTYPE=image/jpeg:https://stjamesorillia.com/wp-content/uploads/2023/09/Eucharist.jpg
END:VEVENT
BEGIN:VEVENT
DTSTART;TZID=America/Toronto:20310126T100000
DTEND;TZID=America/Toronto:20310126T100000
DTSTAMP:20260421T005909
CREATED:20231215T180646Z
LAST-MODIFIED:20231215T180646Z
UID:10005723-1927188000-1927188000@stjamesorillia.com
SUMMARY:Sunday Service with Live Stream
DESCRIPTION:
URL:https://stjamesorillia.com/event/sunday-service-with-live-stream/2031-01-26/
LOCATION:St. James Anglican Church\, 58 Peter Street N.\, Orillia\, Ontario\, L3V 6J6\, Canada
CATEGORIES:Coming Events
ATTACH;FMTTYPE=image/jpeg:https://stjamesorillia.com/wp-content/uploads/2022/08/Sunday-August-28-2022.-10am-Morning-Worship.jpg
END:VEVENT
BEGIN:VEVENT
DTSTART;TZID=America/Toronto:20310126T100000
DTEND;TZID=America/Toronto:20310126T113000
DTSTAMP:20260421T005909
CREATED:20231215T180106Z
LAST-MODIFIED:20231215T180109Z
UID:10005724-1927188000-1927193400@stjamesorillia.com
SUMMARY:Sunday Service
DESCRIPTION:
URL:https://stjamesorillia.com/event/sunday-service-2/2031-01-26/
LOCATION:St. James Anglican Church\, 58 Peter Street N.\, Orillia\, Ontario\, L3V 6J6\, Canada
CATEGORIES:Coming Events
ATTACH;FMTTYPE=image/jpeg:https://stjamesorillia.com/wp-content/uploads/2022/08/Sunday-August-28-2022.-10am-Morning-Worship.jpg
END:VEVENT
BEGIN:VEVENT
DTSTART;TZID=America/Toronto:20310129T110000
DTEND;TZID=America/Toronto:20310129T110000
DTSTAMP:20260421T005909
CREATED:20230925T214430Z
LAST-MODIFIED:20260126T191337Z
UID:10005727-1927450800-1927450800@stjamesorillia.com
SUMMARY:Mid Week Holy Eucharist
DESCRIPTION:
URL:https://stjamesorillia.com/event/mid-week-holy-eucharist/2031-01-29/
LOCATION:St. James Anglican Church\, 58 Peter Street N.\, Orillia\, Ontario\, L3V 6J6\, Canada
CATEGORIES:Coming Events
ATTACH;FMTTYPE=image/jpeg:https://stjamesorillia.com/wp-content/uploads/2023/09/Eucharist.jpg
END:VEVENT
BEGIN:VEVENT
DTSTART;TZID=America/Toronto:20310202T100000
DTEND;TZID=America/Toronto:20310202T100000
DTSTAMP:20260421T005909
CREATED:20231215T180646Z
LAST-MODIFIED:20231215T180646Z
UID:10005728-1927792800-1927792800@stjamesorillia.com
SUMMARY:Sunday Service with Live Stream
DESCRIPTION:
URL:https://stjamesorillia.com/event/sunday-service-with-live-stream/2031-02-02/
LOCATION:St. James Anglican Church\, 58 Peter Street N.\, Orillia\, Ontario\, L3V 6J6\, Canada
CATEGORIES:Coming Events
ATTACH;FMTTYPE=image/jpeg:https://stjamesorillia.com/wp-content/uploads/2022/08/Sunday-August-28-2022.-10am-Morning-Worship.jpg
END:VEVENT
BEGIN:VEVENT
DTSTART;TZID=America/Toronto:20310202T100000
DTEND;TZID=America/Toronto:20310202T113000
DTSTAMP:20260421T005909
CREATED:20231215T180106Z
LAST-MODIFIED:20231215T180109Z
UID:10005729-1927792800-1927798200@stjamesorillia.com
SUMMARY:Sunday Service
DESCRIPTION:
URL:https://stjamesorillia.com/event/sunday-service-2/2031-02-02/
LOCATION:St. James Anglican Church\, 58 Peter Street N.\, Orillia\, Ontario\, L3V 6J6\, Canada
CATEGORIES:Coming Events
ATTACH;FMTTYPE=image/jpeg:https://stjamesorillia.com/wp-content/uploads/2022/08/Sunday-August-28-2022.-10am-Morning-Worship.jpg
END:VEVENT
BEGIN:VEVENT
DTSTART;TZID=America/Toronto:20310205T110000
DTEND;TZID=America/Toronto:20310205T110000
DTSTAMP:20260421T005909
CREATED:20230925T214430Z
LAST-MODIFIED:20260126T191337Z
UID:10005730-1928055600-1928055600@stjamesorillia.com
SUMMARY:Mid Week Holy Eucharist
DESCRIPTION:
URL:https://stjamesorillia.com/event/mid-week-holy-eucharist/2031-02-05/
LOCATION:St. James Anglican Church\, 58 Peter Street N.\, Orillia\, Ontario\, L3V 6J6\, Canada
CATEGORIES:Coming Events
ATTACH;FMTTYPE=image/jpeg:https://stjamesorillia.com/wp-content/uploads/2023/09/Eucharist.jpg
END:VEVENT
BEGIN:VEVENT
DTSTART;TZID=America/Toronto:20310209T100000
DTEND;TZID=America/Toronto:20310209T100000
DTSTAMP:20260421T005909
CREATED:20231215T180646Z
LAST-MODIFIED:20231215T180646Z
UID:10005731-1928397600-1928397600@stjamesorillia.com
SUMMARY:Sunday Service with Live Stream
DESCRIPTION:
URL:https://stjamesorillia.com/event/sunday-service-with-live-stream/2031-02-09/
LOCATION:St. James Anglican Church\, 58 Peter Street N.\, Orillia\, Ontario\, L3V 6J6\, Canada
CATEGORIES:Coming Events
ATTACH;FMTTYPE=image/jpeg:https://stjamesorillia.com/wp-content/uploads/2022/08/Sunday-August-28-2022.-10am-Morning-Worship.jpg
END:VEVENT
BEGIN:VEVENT
DTSTART;TZID=America/Toronto:20310209T100000
DTEND;TZID=America/Toronto:20310209T113000
DTSTAMP:20260421T005909
CREATED:20231215T180106Z
LAST-MODIFIED:20231215T180109Z
UID:10005732-1928397600-1928403000@stjamesorillia.com
SUMMARY:Sunday Service
DESCRIPTION:
URL:https://stjamesorillia.com/event/sunday-service-2/2031-02-09/
LOCATION:St. James Anglican Church\, 58 Peter Street N.\, Orillia\, Ontario\, L3V 6J6\, Canada
CATEGORIES:Coming Events
ATTACH;FMTTYPE=image/jpeg:https://stjamesorillia.com/wp-content/uploads/2022/08/Sunday-August-28-2022.-10am-Morning-Worship.jpg
END:VEVENT
BEGIN:VEVENT
DTSTART;TZID=America/Toronto:20310212T110000
DTEND;TZID=America/Toronto:20310212T110000
DTSTAMP:20260421T005909
CREATED:20230925T214430Z
LAST-MODIFIED:20260126T191337Z
UID:10005733-1928660400-1928660400@stjamesorillia.com
SUMMARY:Mid Week Holy Eucharist
DESCRIPTION:
URL:https://stjamesorillia.com/event/mid-week-holy-eucharist/2031-02-12/
LOCATION:St. James Anglican Church\, 58 Peter Street N.\, Orillia\, Ontario\, L3V 6J6\, Canada
CATEGORIES:Coming Events
ATTACH;FMTTYPE=image/jpeg:https://stjamesorillia.com/wp-content/uploads/2023/09/Eucharist.jpg
END:VEVENT
BEGIN:VEVENT
DTSTART;TZID=America/Toronto:20310216T100000
DTEND;TZID=America/Toronto:20310216T100000
DTSTAMP:20260421T005909
CREATED:20231215T180646Z
LAST-MODIFIED:20231215T180646Z
UID:10005734-1929002400-1929002400@stjamesorillia.com
SUMMARY:Sunday Service with Live Stream
DESCRIPTION:
URL:https://stjamesorillia.com/event/sunday-service-with-live-stream/2031-02-16/
LOCATION:St. James Anglican Church\, 58 Peter Street N.\, Orillia\, Ontario\, L3V 6J6\, Canada
CATEGORIES:Coming Events
ATTACH;FMTTYPE=image/jpeg:https://stjamesorillia.com/wp-content/uploads/2022/08/Sunday-August-28-2022.-10am-Morning-Worship.jpg
END:VEVENT
BEGIN:VEVENT
DTSTART;TZID=America/Toronto:20310216T100000
DTEND;TZID=America/Toronto:20310216T113000
DTSTAMP:20260421T005909
CREATED:20231215T180106Z
LAST-MODIFIED:20231215T180109Z
UID:10005735-1929002400-1929007800@stjamesorillia.com
SUMMARY:Sunday Service
DESCRIPTION:
URL:https://stjamesorillia.com/event/sunday-service-2/2031-02-16/
LOCATION:St. James Anglican Church\, 58 Peter Street N.\, Orillia\, Ontario\, L3V 6J6\, Canada
CATEGORIES:Coming Events
ATTACH;FMTTYPE=image/jpeg:https://stjamesorillia.com/wp-content/uploads/2022/08/Sunday-August-28-2022.-10am-Morning-Worship.jpg
END:VEVENT
BEGIN:VEVENT
DTSTART;TZID=America/Toronto:20310219T110000
DTEND;TZID=America/Toronto:20310219T110000
DTSTAMP:20260421T005909
CREATED:20230925T214430Z
LAST-MODIFIED:20260126T191337Z
UID:10005736-1929265200-1929265200@stjamesorillia.com
SUMMARY:Mid Week Holy Eucharist
DESCRIPTION:
URL:https://stjamesorillia.com/event/mid-week-holy-eucharist/2031-02-19/
LOCATION:St. James Anglican Church\, 58 Peter Street N.\, Orillia\, Ontario\, L3V 6J6\, Canada
CATEGORIES:Coming Events
ATTACH;FMTTYPE=image/jpeg:https://stjamesorillia.com/wp-content/uploads/2023/09/Eucharist.jpg
END:VEVENT
BEGIN:VEVENT
DTSTART;TZID=America/Toronto:20310223T100000
DTEND;TZID=America/Toronto:20310223T100000
DTSTAMP:20260421T005909
CREATED:20231215T180646Z
LAST-MODIFIED:20231215T180646Z
UID:10005737-1929607200-1929607200@stjamesorillia.com
SUMMARY:Sunday Service with Live Stream
DESCRIPTION:
URL:https://stjamesorillia.com/event/sunday-service-with-live-stream/2031-02-23/
LOCATION:St. James Anglican Church\, 58 Peter Street N.\, Orillia\, Ontario\, L3V 6J6\, Canada
CATEGORIES:Coming Events
ATTACH;FMTTYPE=image/jpeg:https://stjamesorillia.com/wp-content/uploads/2022/08/Sunday-August-28-2022.-10am-Morning-Worship.jpg
END:VEVENT
BEGIN:VEVENT
DTSTART;TZID=America/Toronto:20310223T100000
DTEND;TZID=America/Toronto:20310223T113000
DTSTAMP:20260421T005909
CREATED:20231215T180106Z
LAST-MODIFIED:20231215T180109Z
UID:10005738-1929607200-1929612600@stjamesorillia.com
SUMMARY:Sunday Service
DESCRIPTION:
URL:https://stjamesorillia.com/event/sunday-service-2/2031-02-23/
LOCATION:St. James Anglican Church\, 58 Peter Street N.\, Orillia\, Ontario\, L3V 6J6\, Canada
CATEGORIES:Coming Events
ATTACH;FMTTYPE=image/jpeg:https://stjamesorillia.com/wp-content/uploads/2022/08/Sunday-August-28-2022.-10am-Morning-Worship.jpg
END:VEVENT
BEGIN:VEVENT
DTSTART;TZID=America/Toronto:20310226T110000
DTEND;TZID=America/Toronto:20310226T110000
DTSTAMP:20260421T005909
CREATED:20230925T214430Z
LAST-MODIFIED:20260126T191337Z
UID:10005739-1929870000-1929870000@stjamesorillia.com
SUMMARY:Mid Week Holy Eucharist
DESCRIPTION:
URL:https://stjamesorillia.com/event/mid-week-holy-eucharist/2031-02-26/
LOCATION:St. James Anglican Church\, 58 Peter Street N.\, Orillia\, Ontario\, L3V 6J6\, Canada
CATEGORIES:Coming Events
ATTACH;FMTTYPE=image/jpeg:https://stjamesorillia.com/wp-content/uploads/2023/09/Eucharist.jpg
END:VEVENT
BEGIN:VEVENT
DTSTART;TZID=America/Toronto:20310302T100000
DTEND;TZID=America/Toronto:20310302T100000
DTSTAMP:20260421T005909
CREATED:20231215T180646Z
LAST-MODIFIED:20231215T180646Z
UID:10005740-1930212000-1930212000@stjamesorillia.com
SUMMARY:Sunday Service with Live Stream
DESCRIPTION:
URL:https://stjamesorillia.com/event/sunday-service-with-live-stream/2031-03-02/
LOCATION:St. James Anglican Church\, 58 Peter Street N.\, Orillia\, Ontario\, L3V 6J6\, Canada
CATEGORIES:Coming Events
ATTACH;FMTTYPE=image/jpeg:https://stjamesorillia.com/wp-content/uploads/2022/08/Sunday-August-28-2022.-10am-Morning-Worship.jpg
END:VEVENT
BEGIN:VEVENT
DTSTART;TZID=America/Toronto:20310302T100000
DTEND;TZID=America/Toronto:20310302T113000
DTSTAMP:20260421T005909
CREATED:20231215T180106Z
LAST-MODIFIED:20231215T180109Z
UID:10005741-1930212000-1930217400@stjamesorillia.com
SUMMARY:Sunday Service
DESCRIPTION:
URL:https://stjamesorillia.com/event/sunday-service-2/2031-03-02/
LOCATION:St. James Anglican Church\, 58 Peter Street N.\, Orillia\, Ontario\, L3V 6J6\, Canada
CATEGORIES:Coming Events
ATTACH;FMTTYPE=image/jpeg:https://stjamesorillia.com/wp-content/uploads/2022/08/Sunday-August-28-2022.-10am-Morning-Worship.jpg
END:VEVENT
BEGIN:VEVENT
DTSTART;TZID=America/Toronto:20310305T110000
DTEND;TZID=America/Toronto:20310305T110000
DTSTAMP:20260421T005909
CREATED:20230925T214430Z
LAST-MODIFIED:20260126T191337Z
UID:10005742-1930474800-1930474800@stjamesorillia.com
SUMMARY:Mid Week Holy Eucharist
DESCRIPTION:
URL:https://stjamesorillia.com/event/mid-week-holy-eucharist/2031-03-05/
LOCATION:St. James Anglican Church\, 58 Peter Street N.\, Orillia\, Ontario\, L3V 6J6\, Canada
CATEGORIES:Coming Events
ATTACH;FMTTYPE=image/jpeg:https://stjamesorillia.com/wp-content/uploads/2023/09/Eucharist.jpg
END:VEVENT
BEGIN:VEVENT
DTSTART;TZID=America/Toronto:20310309T100000
DTEND;TZID=America/Toronto:20310309T100000
DTSTAMP:20260421T005909
CREATED:20231215T180646Z
LAST-MODIFIED:20231215T180646Z
UID:10005743-1930816800-1930816800@stjamesorillia.com
SUMMARY:Sunday Service with Live Stream
DESCRIPTION:
URL:https://stjamesorillia.com/event/sunday-service-with-live-stream/2031-03-09/
LOCATION:St. James Anglican Church\, 58 Peter Street N.\, Orillia\, Ontario\, L3V 6J6\, Canada
CATEGORIES:Coming Events
ATTACH;FMTTYPE=image/jpeg:https://stjamesorillia.com/wp-content/uploads/2022/08/Sunday-August-28-2022.-10am-Morning-Worship.jpg
END:VEVENT
BEGIN:VEVENT
DTSTART;TZID=America/Toronto:20310309T100000
DTEND;TZID=America/Toronto:20310309T113000
DTSTAMP:20260421T005909
CREATED:20231215T180106Z
LAST-MODIFIED:20231215T180109Z
UID:10005744-1930816800-1930822200@stjamesorillia.com
SUMMARY:Sunday Service
DESCRIPTION:
URL:https://stjamesorillia.com/event/sunday-service-2/2031-03-09/
LOCATION:St. James Anglican Church\, 58 Peter Street N.\, Orillia\, Ontario\, L3V 6J6\, Canada
CATEGORIES:Coming Events
ATTACH;FMTTYPE=image/jpeg:https://stjamesorillia.com/wp-content/uploads/2022/08/Sunday-August-28-2022.-10am-Morning-Worship.jpg
END:VEVENT
BEGIN:VEVENT
DTSTART;TZID=America/Toronto:20310312T110000
DTEND;TZID=America/Toronto:20310312T110000
DTSTAMP:20260421T005909
CREATED:20230925T214430Z
LAST-MODIFIED:20260126T191337Z
UID:10005745-1931079600-1931079600@stjamesorillia.com
SUMMARY:Mid Week Holy Eucharist
DESCRIPTION:
URL:https://stjamesorillia.com/event/mid-week-holy-eucharist/2031-03-12/
LOCATION:St. James Anglican Church\, 58 Peter Street N.\, Orillia\, Ontario\, L3V 6J6\, Canada
CATEGORIES:Coming Events
ATTACH;FMTTYPE=image/jpeg:https://stjamesorillia.com/wp-content/uploads/2023/09/Eucharist.jpg
END:VEVENT
END:VCALENDAR